BEGIN:VCALENDAR
VERSION:2.0
PRODID:-//Nocymusic - ECPv6.15.20//NONSGML v1.0//EN
CALSCALE:GREGORIAN
METHOD:PUBLISH
X-WR-CALNAME:Nocymusic
X-ORIGINAL-URL:https://nocymusic.com
X-WR-CALDESC:Events for Nocymusic
REFRESH-INTERVAL;VALUE=DURATION:PT1H
X-Robots-Tag:noindex
X-PUBLISHED-TTL:PT1H
BEGIN:VTIMEZONE
TZID:America/Los_Angeles
BEGIN:DAYLIGHT
TZOFFSETFROM:-0800
TZOFFSETTO:-0700
TZNAME:PDT
DTSTART:20240310T100000
END:DAYLIGHT
BEGIN:STANDARD
TZOFFSETFROM:-0700
TZOFFSETTO:-0800
TZNAME:PST
DTSTART:20241103T090000
END:STANDARD
BEGIN:DAYLIGHT
TZOFFSETFROM:-0800
TZOFFSETTO:-0700
TZNAME:PDT
DTSTART:20250309T100000
END:DAYLIGHT
BEGIN:STANDARD
TZOFFSETFROM:-0700
TZOFFSETTO:-0800
TZNAME:PST
DTSTART:20251102T090000
END:STANDARD
BEGIN:DAYLIGHT
TZOFFSETFROM:-0800
TZOFFSETTO:-0700
TZNAME:PDT
DTSTART:20260308T100000
END:DAYLIGHT
BEGIN:STANDARD
TZOFFSETFROM:-0700
TZOFFSETTO:-0800
TZNAME:PST
DTSTART:20261101T090000
END:STANDARD
END:VTIMEZONE
BEGIN:VEVENT
DTSTART;TZID=America/Los_Angeles:20250709T150000
DTEND;TZID=America/Los_Angeles:20250709T160000
DTSTAMP:20260424T014845
CREATED:20250313T001359Z
LAST-MODIFIED:20250623T055928Z
UID:6645-1752073200-1752076800@nocymusic.com
SUMMARY:Peninsula Pointe Palos Verdes
DESCRIPTION:
URL:https://nocymusic.com/event/peninsula-pointe-8/
END:VEVENT
BEGIN:VEVENT
DTSTART;TZID=America/Los_Angeles:20250708T123000
DTEND;TZID=America/Los_Angeles:20250708T133000
DTSTAMP:20260424T014845
CREATED:20250325T031903Z
LAST-MODIFIED:20250325T031903Z
UID:6678-1751977800-1751981400@nocymusic.com
SUMMARY:Jewish Family Center Los Angeles
DESCRIPTION:
URL:https://nocymusic.com/event/jewish-family-center-los-angeles-2/
END:VEVENT
BEGIN:VEVENT
DTSTART;TZID=America/Los_Angeles:20250705T130000
DTEND;TZID=America/Los_Angeles:20250705T140000
DTSTAMP:20260424T014845
CREATED:20250123T003500Z
LAST-MODIFIED:20250623T055902Z
UID:6457-1751720400-1751724000@nocymusic.com
SUMMARY:Welbrook Santa Monica
DESCRIPTION:
URL:https://nocymusic.com/event/welbrook-7/
END:VEVENT
BEGIN:VEVENT
DTSTART;TZID=America/Los_Angeles:20250704T113000
DTEND;TZID=America/Los_Angeles:20250704T140000
DTSTAMP:20260424T014845
CREATED:20250703T061814Z
LAST-MODIFIED:20250703T061814Z
UID:6936-1751628600-1751637600@nocymusic.com
SUMMARY:The Watermark Westwood Village
DESCRIPTION:
URL:https://nocymusic.com/event/the-watermark-westwood-village/
END:VEVENT
BEGIN:VEVENT
DTSTART;TZID=America/Los_Angeles:20250703T140000
DTEND;TZID=America/Los_Angeles:20250703T170000
DTSTAMP:20260424T014845
CREATED:20250123T003459Z
LAST-MODIFIED:20250623T055133Z
UID:6456-1751551200-1751562000@nocymusic.com
SUMMARY:The Kensington Redondo Beach
DESCRIPTION:
URL:https://nocymusic.com/event/the-kensington-redondo-beach-12/
END:VEVENT
BEGIN:VEVENT
DTSTART;TZID=America/Los_Angeles:20250629T140000
DTEND;TZID=America/Los_Angeles:20250629T150000
DTSTAMP:20260424T014845
CREATED:20250522T171703Z
LAST-MODIFIED:20250522T171703Z
UID:6821-1751205600-1751209200@nocymusic.com
SUMMARY:Studio Royale Culver City
DESCRIPTION:
URL:https://nocymusic.com/event/studio-royale-culver-city/
END:VEVENT
BEGIN:VEVENT
DTSTART;TZID=America/Los_Angeles:20250627T160000
DTEND;TZID=America/Los_Angeles:20250627T170000
DTSTAMP:20260424T014845
CREATED:20250627T170559Z
LAST-MODIFIED:20250627T170559Z
UID:6931-1751040000-1751043600@nocymusic.com
SUMMARY:June 27 The Watermark Westwood Village
DESCRIPTION:
URL:https://nocymusic.com/event/june-27-the-watermark-westwood-village/
END:VEVENT
BEGIN:VEVENT
DTSTART;TZID=America/Los_Angeles:20250627T140000
DTEND;TZID=America/Los_Angeles:20250627T150000
DTSTAMP:20260424T014845
CREATED:20250217T180208Z
LAST-MODIFIED:20250429T172323Z
UID:6586-1751032800-1751036400@nocymusic.com
SUMMARY:The Pinnacles  Beverly Hills
DESCRIPTION:
URL:https://nocymusic.com/event/june-27-the-pinnacles-at-burton/
END:VEVENT
BEGIN:VEVENT
DTSTART;TZID=America/Los_Angeles:20250625T160000
DTEND;TZID=America/Los_Angeles:20250625T173000
DTSTAMP:20260424T014845
CREATED:20250227T045108Z
LAST-MODIFIED:20250227T045108Z
UID:6623-1750867200-1750872600@nocymusic.com
SUMMARY:Cogir Torrance
DESCRIPTION:
URL:https://nocymusic.com/event/cogir-torrance-3/
END:VEVENT
BEGIN:VEVENT
DTSTART;TZID=America/Los_Angeles:20250625T133000
DTEND;TZID=America/Los_Angeles:20250625T143000
DTSTAMP:20260424T014845
CREATED:20250614T075427Z
LAST-MODIFIED:20250618T074619Z
UID:6861-1750858200-1750861800@nocymusic.com
SUMMARY:Beverly Hills Rehab  Center
DESCRIPTION:
URL:https://nocymusic.com/event/june-25-beverly-hills-rehab-center-130-pm/
END:VEVENT
BEGIN:VEVENT
DTSTART;TZID=America/Los_Angeles:20250622T140000
DTEND;TZID=America/Los_Angeles:20250622T150000
DTSTAMP:20260424T014845
CREATED:20250526T213541Z
LAST-MODIFIED:20250604T174713Z
UID:6838-1750600800-1750604400@nocymusic.com
SUMMARY:June 22 Belmont Village Rancho Palos Verdes
DESCRIPTION:
URL:https://nocymusic.com/event/june-22-belmont-village-rancho-palos-verdes-2-pm/
END:VEVENT
BEGIN:VEVENT
DTSTART;TZID=America/Los_Angeles:20250621T140000
DTEND;TZID=America/Los_Angeles:20250621T160000
DTSTAMP:20260424T014845
CREATED:20250515T000409Z
LAST-MODIFIED:20250515T000409Z
UID:6806-1750514400-1750521600@nocymusic.com
SUMMARY:Welbrook Santa Monica
DESCRIPTION:
URL:https://nocymusic.com/event/welbrook-santa-monica-2/
END:VEVENT
BEGIN:VEVENT
DTSTART;TZID=America/Los_Angeles:20250619T140000
DTEND;TZID=America/Los_Angeles:20250619T170000
DTSTAMP:20260424T014845
CREATED:20250123T003459Z
LAST-MODIFIED:20250623T054902Z
UID:6455-1750341600-1750352400@nocymusic.com
SUMMARY:The Kensington Redondo Beach
DESCRIPTION:
URL:https://nocymusic.com/event/the-kensington-redondo-beach-11/
END:VEVENT
BEGIN:VEVENT
DTSTART;TZID=America/Los_Angeles:20250615T110000
DTEND;TZID=America/Los_Angeles:20250615T140000
DTSTAMP:20260424T014845
CREATED:20250530T171131Z
LAST-MODIFIED:20250604T174631Z
UID:6840-1749985200-1749996000@nocymusic.com
SUMMARY:June 15 The Watermark Westwood Village
DESCRIPTION:
URL:https://nocymusic.com/event/june-15-the-watermark-westwood-village-11-am/
END:VEVENT
BEGIN:VEVENT
DTSTART;TZID=America/Los_Angeles:20250614T133000
DTEND;TZID=America/Los_Angeles:20250614T143000
DTSTAMP:20260424T014845
CREATED:20250126T221733Z
LAST-MODIFIED:20250623T060131Z
UID:6562-1749907800-1749911400@nocymusic.com
SUMMARY:Brookdale Santa Monica
DESCRIPTION:
URL:https://nocymusic.com/event/brookdale-5/
END:VEVENT
BEGIN:VEVENT
DTSTART;TZID=America/Los_Angeles:20250611T150000
DTEND;TZID=America/Los_Angeles:20250611T160000
DTSTAMP:20260424T014845
CREATED:20250313T001246Z
LAST-MODIFIED:20250325T032709Z
UID:6643-1749654000-1749657600@nocymusic.com
SUMMARY:Peninsula Pointe Palos Verdes
DESCRIPTION:
URL:https://nocymusic.com/event/peninsula-pointe-7/
END:VEVENT
BEGIN:VEVENT
DTSTART;TZID=America/Los_Angeles:20250610T160000
DTEND;TZID=America/Los_Angeles:20250610T170000
DTSTAMP:20260424T014845
CREATED:20250526T213358Z
LAST-MODIFIED:20250604T174547Z
UID:6836-1749571200-1749574800@nocymusic.com
SUMMARY:June 10 The WaterMark Westwood Village
DESCRIPTION:
URL:https://nocymusic.com/event/june-10-the-watermark-westwood-village-3-pm/
END:VEVENT
BEGIN:VEVENT
DTSTART;TZID=America/Los_Angeles:20250607T130000
DTEND;TZID=America/Los_Angeles:20250607T150000
DTSTAMP:20260424T014845
CREATED:20250123T003458Z
LAST-MODIFIED:20250623T060056Z
UID:6454-1749301200-1749308400@nocymusic.com
SUMMARY:Welbrook Santa Monica
DESCRIPTION:
URL:https://nocymusic.com/event/welbrook-6/
END:VEVENT
BEGIN:VEVENT
DTSTART;TZID=America/Los_Angeles:20250606T170000
DTEND;TZID=America/Los_Angeles:20250606T180000
DTSTAMP:20260424T014845
CREATED:20250526T213259Z
LAST-MODIFIED:20250604T174507Z
UID:6834-1749229200-1749232800@nocymusic.com
SUMMARY:June 6 The WaterMark Westwood Village
DESCRIPTION:
URL:https://nocymusic.com/event/june-6-the-watermark-westwood-village-5-pm/
END:VEVENT
BEGIN:VEVENT
DTSTART;TZID=America/Los_Angeles:20250605T140000
DTEND;TZID=America/Los_Angeles:20250605T170000
DTSTAMP:20260424T014845
CREATED:20250123T003457Z
LAST-MODIFIED:20250623T055212Z
UID:6453-1749132000-1749142800@nocymusic.com
SUMMARY:The Kensington Redondo Beach
DESCRIPTION:
URL:https://nocymusic.com/event/the-kensington-redondo-beach-10/
END:VEVENT
BEGIN:VEVENT
DTSTART;TZID=America/Los_Angeles:20250530T140000
DTEND;TZID=America/Los_Angeles:20250530T150000
DTSTAMP:20260424T014845
CREATED:20250226T180235Z
LAST-MODIFIED:20250429T172043Z
UID:6610-1748613600-1748617200@nocymusic.com
SUMMARY:The Pinnacles  Beverly Hills
DESCRIPTION:
URL:https://nocymusic.com/event/the-pinnacles-at-burton-beverly-hills/
END:VEVENT
BEGIN:VEVENT
DTSTART;TZID=America/Los_Angeles:20250528T160000
DTEND;TZID=America/Los_Angeles:20250528T173000
DTSTAMP:20260424T014845
CREATED:20250227T045004Z
LAST-MODIFIED:20250325T033819Z
UID:6621-1748448000-1748453400@nocymusic.com
SUMMARY:Cogir Torrance
DESCRIPTION:
URL:https://nocymusic.com/event/cogir-torrance-2/
END:VEVENT
BEGIN:VEVENT
DTSTART;TZID=America/Los_Angeles:20250528T140000
DTEND;TZID=America/Los_Angeles:20250528T150000
DTSTAMP:20260424T014845
CREATED:20250423T181500Z
LAST-MODIFIED:20250429T174328Z
UID:6737-1748440800-1748444400@nocymusic.com
SUMMARY:Studio Royale Culver City
DESCRIPTION:
URL:https://nocymusic.com/event/studio-royale-3/
END:VEVENT
BEGIN:VEVENT
DTSTART;TZID=America/Los_Angeles:20250523T124500
DTEND;TZID=America/Los_Angeles:20250523T134500
DTSTAMP:20260424T014845
CREATED:20250325T031740Z
LAST-MODIFIED:20250325T032324Z
UID:6676-1748004300-1748007900@nocymusic.com
SUMMARY:Jewish Family Center Los Angeles
DESCRIPTION:
URL:https://nocymusic.com/event/jewish-family-center-los-angeles/
END:VEVENT
BEGIN:VEVENT
DTSTART;TZID=America/Los_Angeles:20250522T140000
DTEND;TZID=America/Los_Angeles:20250522T170000
DTSTAMP:20260424T014845
CREATED:20250123T003444Z
LAST-MODIFIED:20250623T054812Z
UID:6452-1747922400-1747933200@nocymusic.com
SUMMARY:The Kensington Redondo Beach
DESCRIPTION:
URL:https://nocymusic.com/event/the-kensington-redondo-beach-9/
END:VEVENT
BEGIN:VEVENT
DTSTART;TZID=America/Los_Angeles:20250516T153000
DTEND;TZID=America/Los_Angeles:20250516T163000
DTSTAMP:20260424T014845
CREATED:20250515T000147Z
LAST-MODIFIED:20250515T000147Z
UID:6804-1747409400-1747413000@nocymusic.com
SUMMARY:The Canterbury Palos Verdes
DESCRIPTION:
URL:https://nocymusic.com/event/the-canterbury-palos-verdes/
END:VEVENT
BEGIN:VEVENT
DTSTART;TZID=America/Los_Angeles:20250514T150000
DTEND;TZID=America/Los_Angeles:20250514T160000
DTSTAMP:20260424T014845
CREATED:20250313T001150Z
LAST-MODIFIED:20250325T033707Z
UID:6641-1747234800-1747238400@nocymusic.com
SUMMARY:Peninsula Pointe Palos Verdes
DESCRIPTION:
URL:https://nocymusic.com/event/peninsula-pointe-6/
END:VEVENT
BEGIN:VEVENT
DTSTART;TZID=America/Los_Angeles:20250512T170000
DTEND;TZID=America/Los_Angeles:20250512T200000
DTSTAMP:20260424T014845
CREATED:20250423T181742Z
LAST-MODIFIED:20250429T172234Z
UID:6741-1747069200-1747080000@nocymusic.com
SUMMARY:Rio Hondo Golf Course VIP Private
DESCRIPTION:
URL:https://nocymusic.com/event/rio-hondo-golf-course-private-party/
END:VEVENT
BEGIN:VEVENT
DTSTART;TZID=America/Los_Angeles:20250511T140000
DTEND;TZID=America/Los_Angeles:20250511T150000
DTSTAMP:20260424T014845
CREATED:20250429T171757Z
LAST-MODIFIED:20250429T172126Z
UID:6758-1746972000-1746975600@nocymusic.com
SUMMARY:Beverly Hills Rehab Center
DESCRIPTION:
URL:https://nocymusic.com/event/may-11-beverly-hills-rehab-center/
END:VEVENT
BEGIN:VEVENT
DTSTART;TZID=America/Los_Angeles:20250510T133000
DTEND;TZID=America/Los_Angeles:20250510T143000
DTSTAMP:20260424T014845
CREATED:20250126T221646Z
LAST-MODIFIED:20250623T060644Z
UID:6560-1746883800-1746887400@nocymusic.com
SUMMARY:Brookdale Santa Monica
DESCRIPTION:
URL:https://nocymusic.com/event/brookdale-4/
END:VEVENT
END:VCALENDAR