BEGIN:VCALENDAR
VERSION:2.0
PRODID:-//Nocymusic - ECPv6.15.20//NONSGML v1.0//EN
CALSCALE:GREGORIAN
METHOD:PUBLISH
X-WR-CALNAME:Nocymusic
X-ORIGINAL-URL:https://nocymusic.com
X-WR-CALDESC:Events for Nocymusic
REFRESH-INTERVAL;VALUE=DURATION:PT1H
X-Robots-Tag:noindex
X-PUBLISHED-TTL:PT1H
BEGIN:VTIMEZONE
TZID:America/Los_Angeles
BEGIN:DAYLIGHT
TZOFFSETFROM:-0800
TZOFFSETTO:-0700
TZNAME:PDT
DTSTART:20240310T100000
END:DAYLIGHT
BEGIN:STANDARD
TZOFFSETFROM:-0700
TZOFFSETTO:-0800
TZNAME:PST
DTSTART:20241103T090000
END:STANDARD
BEGIN:DAYLIGHT
TZOFFSETFROM:-0800
TZOFFSETTO:-0700
TZNAME:PDT
DTSTART:20250309T100000
END:DAYLIGHT
BEGIN:STANDARD
TZOFFSETFROM:-0700
TZOFFSETTO:-0800
TZNAME:PST
DTSTART:20251102T090000
END:STANDARD
BEGIN:DAYLIGHT
TZOFFSETFROM:-0800
TZOFFSETTO:-0700
TZNAME:PDT
DTSTART:20260308T100000
END:DAYLIGHT
BEGIN:STANDARD
TZOFFSETFROM:-0700
TZOFFSETTO:-0800
TZNAME:PST
DTSTART:20261101T090000
END:STANDARD
END:VTIMEZONE
BEGIN:VEVENT
DTSTART;TZID=America/Los_Angeles:20250412T133000
DTEND;TZID=America/Los_Angeles:20250412T143000
DTSTAMP:20260424T082008
CREATED:20250126T221601Z
LAST-MODIFIED:20250325T033303Z
UID:6558-1744464600-1744468200@nocymusic.com
SUMMARY:Brookdale Santa Monica
DESCRIPTION:
URL:https://nocymusic.com/event/brookdale-3/
END:VEVENT
BEGIN:VEVENT
DTSTART;TZID=America/Los_Angeles:20250410T140000
DTEND;TZID=America/Los_Angeles:20250410T170000
DTSTAMP:20260424T082008
CREATED:20250123T003442Z
LAST-MODIFIED:20250623T055034Z
UID:6448-1744293600-1744304400@nocymusic.com
SUMMARY:The Kensington Redondo Beach
DESCRIPTION:
URL:https://nocymusic.com/event/the-kensington-redondo-beach-6/
END:VEVENT
BEGIN:VEVENT
DTSTART;TZID=America/Los_Angeles:20250409T030000
DTEND;TZID=America/Los_Angeles:20250409T160000
DTSTAMP:20260424T082008
CREATED:20250313T001050Z
LAST-MODIFIED:20250623T060506Z
UID:6638-1744167600-1744214400@nocymusic.com
SUMMARY:Peninsula Pointe Palos Verdes
DESCRIPTION:
URL:https://nocymusic.com/event/peninsula-pointe-5/
END:VEVENT
BEGIN:VEVENT
DTSTART;TZID=America/Los_Angeles:20250405T130000
DTEND;TZID=America/Los_Angeles:20250405T150000
DTSTAMP:20260424T082008
CREATED:20250123T003430Z
LAST-MODIFIED:20250623T060444Z
UID:6447-1743858000-1743865200@nocymusic.com
SUMMARY:Welbrook Santa Monica
DESCRIPTION:
URL:https://nocymusic.com/event/welbrook-4/
END:VEVENT
BEGIN:VEVENT
DTSTART;TZID=America/Los_Angeles:20250328T140000
DTEND;TZID=America/Los_Angeles:20250328T150000
DTSTAMP:20260424T082008
CREATED:20250221T011358Z
LAST-MODIFIED:20250429T171908Z
UID:6592-1743170400-1743174000@nocymusic.com
SUMMARY:The Pinnacles  Beverly Hills
DESCRIPTION:
URL:https://nocymusic.com/event/silverado-rolling-hills-2-pm/
END:VEVENT
BEGIN:VEVENT
DTSTART;TZID=America/Los_Angeles:20250327T140000
DTEND;TZID=America/Los_Angeles:20250327T170000
DTSTAMP:20260424T082008
CREATED:20250123T003429Z
LAST-MODIFIED:20250623T060416Z
UID:6446-1743084000-1743094800@nocymusic.com
SUMMARY:The Kensington Redondo Beach
DESCRIPTION:
URL:https://nocymusic.com/event/the-kensington-redondo-beach-5/
END:VEVENT
BEGIN:VEVENT
DTSTART;TZID=America/Los_Angeles:20250326T160000
DTEND;TZID=America/Los_Angeles:20250326T173000
DTSTAMP:20260424T082008
CREATED:20250221T010954Z
LAST-MODIFIED:20250314T225417Z
UID:6590-1743004800-1743010200@nocymusic.com
SUMMARY:Cogir Torrance
DESCRIPTION:
URL:https://nocymusic.com/event/cogir-torrance-4-pm/
END:VEVENT
BEGIN:VEVENT
DTSTART;TZID=America/Los_Angeles:20250320T133000
DTEND;TZID=America/Los_Angeles:20250320T143000
DTSTAMP:20260424T082008
CREATED:20250314T225319Z
LAST-MODIFIED:20250429T174237Z
UID:6649-1742477400-1742481000@nocymusic.com
SUMMARY:Jewish Family Center Los Angeles
DESCRIPTION:
URL:https://nocymusic.com/event/jewish-family-center-2/
END:VEVENT
BEGIN:VEVENT
DTSTART;TZID=America/Los_Angeles:20250318T123000
DTEND;TZID=America/Los_Angeles:20250318T133000
DTSTAMP:20260424T082008
CREATED:20250314T225236Z
LAST-MODIFIED:20250429T174158Z
UID:6647-1742301000-1742304600@nocymusic.com
SUMMARY:Jewish Family Center Los Angeles
DESCRIPTION:
URL:https://nocymusic.com/event/jewish-family-center/
END:VEVENT
BEGIN:VEVENT
DTSTART;TZID=America/Los_Angeles:20250313T140000
DTEND;TZID=America/Los_Angeles:20250313T170000
DTSTAMP:20260424T082008
CREATED:20250123T003429Z
LAST-MODIFIED:20250623T055013Z
UID:6445-1741874400-1741885200@nocymusic.com
SUMMARY:The Kensington Redondo Beach
DESCRIPTION:
URL:https://nocymusic.com/event/the-kensington-redondo-beach-4/
END:VEVENT
BEGIN:VEVENT
DTSTART;TZID=America/Los_Angeles:20250312T150000
DTEND;TZID=America/Los_Angeles:20250312T160000
DTSTAMP:20260424T082008
CREATED:20250123T003429Z
LAST-MODIFIED:20250429T174113Z
UID:6444-1741791600-1741795200@nocymusic.com
SUMMARY:Peninsula Pointe Palos Verdes
DESCRIPTION:
URL:https://nocymusic.com/event/peninsula-pointe-4/
END:VEVENT
BEGIN:VEVENT
DTSTART;TZID=America/Los_Angeles:20250308T133000
DTEND;TZID=America/Los_Angeles:20250308T143000
DTSTAMP:20260424T082008
CREATED:20250126T221508Z
LAST-MODIFIED:20250429T174024Z
UID:6556-1741440600-1741444200@nocymusic.com
SUMMARY:Brookdale Santa Monica
DESCRIPTION:
URL:https://nocymusic.com/event/brookdale-2/
END:VEVENT
BEGIN:VEVENT
DTSTART;TZID=America/Los_Angeles:20250307T150000
DTEND;TZID=America/Los_Angeles:20250307T160000
DTSTAMP:20260424T082008
CREATED:20250123T003427Z
LAST-MODIFIED:20250623T060823Z
UID:6443-1741359600-1741363200@nocymusic.com
SUMMARY:Silverado Rolling Hills
DESCRIPTION:Get it Here \nAMAZON  iTUNES
URL:https://nocymusic.com/event/the-pinnacles-at-burton-3/
END:VEVENT
BEGIN:VEVENT
DTSTART;TZID=America/Los_Angeles:20250301T130000
DTEND;TZID=America/Los_Angeles:20250301T140000
DTSTAMP:20260424T082008
CREATED:20250123T003414Z
LAST-MODIFIED:20250429T173952Z
UID:6442-1740834000-1740837600@nocymusic.com
SUMMARY:Welbrook Santa Monica
DESCRIPTION:
URL:https://nocymusic.com/event/welbrook-3/
END:VEVENT
BEGIN:VEVENT
DTSTART;TZID=America/Los_Angeles:20250228T140000
DTEND;TZID=America/Los_Angeles:20250228T160000
DTSTAMP:20260424T082008
CREATED:20250123T003413Z
LAST-MODIFIED:20250429T173909Z
UID:6441-1740751200-1740758400@nocymusic.com
SUMMARY:Silverado Rolling Hills
DESCRIPTION:
URL:https://nocymusic.com/event/silverado-2/
END:VEVENT
BEGIN:VEVENT
DTSTART;TZID=America/Los_Angeles:20250227T171500
DTEND;TZID=America/Los_Angeles:20250227T181500
DTSTAMP:20260424T082008
CREATED:20250123T003413Z
LAST-MODIFIED:20250429T173832Z
UID:6440-1740676500-1740680100@nocymusic.com
SUMMARY:Peninsula Pointe Palos verdes
DESCRIPTION:
URL:https://nocymusic.com/event/peninsula-pointe-3/
END:VEVENT
BEGIN:VEVENT
DTSTART;TZID=America/Los_Angeles:20250227T140000
DTEND;TZID=America/Los_Angeles:20250227T170000
DTSTAMP:20260424T082008
CREATED:20250123T003412Z
LAST-MODIFIED:20250429T175029Z
UID:6439-1740664800-1740675600@nocymusic.com
SUMMARY:The Kensington Redondo Beach
DESCRIPTION:
URL:https://nocymusic.com/event/the-kensington-redondo-beach-3/
END:VEVENT
BEGIN:VEVENT
DTSTART;TZID=America/Los_Angeles:20250226T160000
DTEND;TZID=America/Los_Angeles:20250226T173000
DTSTAMP:20260424T082008
CREATED:20250126T221112Z
LAST-MODIFIED:20250429T173747Z
UID:6551-1740585600-1740591000@nocymusic.com
SUMMARY:Cogir Torrance
DESCRIPTION:
URL:https://nocymusic.com/event/cogir-2/
END:VEVENT
BEGIN:VEVENT
DTSTART;TZID=America/Los_Angeles:20250225T140000
DTEND;TZID=America/Los_Angeles:20250225T150000
DTSTAMP:20260424T082008
CREATED:20250126T225454Z
LAST-MODIFIED:20250429T173720Z
UID:6577-1740492000-1740495600@nocymusic.com
SUMMARY:Studio Royale Culver City
DESCRIPTION:
URL:https://nocymusic.com/event/studio-royale-2/
END:VEVENT
BEGIN:VEVENT
DTSTART;TZID=America/Los_Angeles:20250222T133000
DTEND;TZID=America/Los_Angeles:20250222T143000
DTSTAMP:20260424T082008
CREATED:20250126T221353Z
LAST-MODIFIED:20250429T173640Z
UID:6554-1740231000-1740234600@nocymusic.com
SUMMARY:Brookdale Santa Monica
DESCRIPTION:
URL:https://nocymusic.com/event/brookdale/
END:VEVENT
BEGIN:VEVENT
DTSTART;TZID=America/Los_Angeles:20250217T140000
DTEND;TZID=America/Los_Angeles:20250217T150000
DTSTAMP:20260424T082008
CREATED:20250208T031002Z
LAST-MODIFIED:20250429T173607Z
UID:6582-1739800800-1739804400@nocymusic.com
SUMMARY:The Pinnacles  Beverly Hills
DESCRIPTION:
URL:https://nocymusic.com/event/february-17-pinnacles-beverly-hills-2-pm/
END:VEVENT
BEGIN:VEVENT
DTSTART;TZID=America/Los_Angeles:20250214T170000
DTEND;TZID=America/Los_Angeles:20250214T180000
DTSTAMP:20260424T082008
CREATED:20250123T003359Z
LAST-MODIFIED:20250429T173534Z
UID:6437-1739552400-1739556000@nocymusic.com
SUMMARY:Studio Royale Culver City
DESCRIPTION:
URL:https://nocymusic.com/event/studio-royale/
END:VEVENT
BEGIN:VEVENT
DTSTART;TZID=America/Los_Angeles:20250214T130000
DTEND;TZID=America/Los_Angeles:20250214T140000
DTSTAMP:20260424T082008
CREATED:20250123T003358Z
LAST-MODIFIED:20250429T173106Z
UID:6436-1739538000-1739541600@nocymusic.com
SUMMARY:Welbrook Santa Monica
DESCRIPTION:
URL:https://nocymusic.com/event/welbrook-2/
END:VEVENT
BEGIN:VEVENT
DTSTART;TZID=America/Los_Angeles:20250213T140000
DTEND;TZID=America/Los_Angeles:20250213T170000
DTSTAMP:20260424T082008
CREATED:20250123T003357Z
LAST-MODIFIED:20250429T174957Z
UID:6435-1739455200-1739466000@nocymusic.com
SUMMARY:The Kensington Redondo Beach
DESCRIPTION:
URL:https://nocymusic.com/event/the-kensington-redondo-beach-2/
END:VEVENT
BEGIN:VEVENT
DTSTART;TZID=America/Los_Angeles:20250212T150000
DTEND;TZID=America/Los_Angeles:20250212T160000
DTSTAMP:20260424T082008
CREATED:20250123T003357Z
LAST-MODIFIED:20250429T173449Z
UID:6434-1739372400-1739376000@nocymusic.com
SUMMARY:Peninsula Pointe Palos Verdes
DESCRIPTION:
URL:https://nocymusic.com/event/peninsula-pointe-2/
END:VEVENT
BEGIN:VEVENT
DTSTART;TZID=America/Los_Angeles:20250207T140000
DTEND;TZID=America/Los_Angeles:20250207T160000
DTSTAMP:20260424T082008
CREATED:20250123T003356Z
LAST-MODIFIED:20251227T210738Z
UID:6433-1738936800-1738944000@nocymusic.com
SUMMARY:Silverado Rolling Hills
DESCRIPTION:
URL:https://nocymusic.com/event/silverado/
END:VEVENT
BEGIN:VEVENT
DTSTART;TZID=America/Los_Angeles:20250201T130000
DTEND;TZID=America/Los_Angeles:20250201T140000
DTSTAMP:20260424T082008
CREATED:20250123T003355Z
LAST-MODIFIED:20251227T210811Z
UID:6432-1738414800-1738418400@nocymusic.com
SUMMARY:Welbrook Santa Monica
DESCRIPTION:
URL:https://nocymusic.com/event/welbrook/
END:VEVENT
BEGIN:VEVENT
DTSTART;TZID=America/Los_Angeles:20250130T140000
DTEND;TZID=America/Los_Angeles:20250130T170000
DTSTAMP:20260424T082008
CREATED:20250123T003354Z
LAST-MODIFIED:20251227T210817Z
UID:6430-1738245600-1738256400@nocymusic.com
SUMMARY:The Kensington Redondo Beach
DESCRIPTION:
URL:https://nocymusic.com/event/the-kensington-redondo-beach/
END:VEVENT
BEGIN:VEVENT
DTSTART;TZID=America/Los_Angeles:20250130T113000
DTEND;TZID=America/Los_Angeles:20250130T130000
DTSTAMP:20260424T082008
CREATED:20250123T003354Z
LAST-MODIFIED:20251227T210822Z
UID:6429-1738236600-1738242000@nocymusic.com
SUMMARY:Cogir Torrance
DESCRIPTION:
URL:https://nocymusic.com/event/cogir/
END:VEVENT
BEGIN:VEVENT
DTSTART;TZID=America/Los_Angeles:20250122T150000
DTEND;TZID=America/Los_Angeles:20250122T160000
DTSTAMP:20260424T082008
CREATED:20250123T003352Z
LAST-MODIFIED:20251227T210827Z
UID:6428-1737558000-1737561600@nocymusic.com
SUMMARY:Peninsula Pointe Palos Verdes
DESCRIPTION:
URL:https://nocymusic.com/event/peninsula-pointe/
END:VEVENT
END:VCALENDAR