BEGIN:VCALENDAR
VERSION:2.0
PRODID:-//Nocymusic - ECPv6.15.20//NONSGML v1.0//EN
CALSCALE:GREGORIAN
METHOD:PUBLISH
X-ORIGINAL-URL:https://nocymusic.com
X-WR-CALDESC:Events for Nocymusic
REFRESH-INTERVAL;VALUE=DURATION:PT1H
X-Robots-Tag:noindex
X-PUBLISHED-TTL:PT1H
BEGIN:VTIMEZONE
TZID:America/Los_Angeles
BEGIN:DAYLIGHT
TZOFFSETFROM:-0800
TZOFFSETTO:-0700
TZNAME:PDT
DTSTART:20240310T100000
END:DAYLIGHT
BEGIN:STANDARD
TZOFFSETFROM:-0700
TZOFFSETTO:-0800
TZNAME:PST
DTSTART:20241103T090000
END:STANDARD
BEGIN:DAYLIGHT
TZOFFSETFROM:-0800
TZOFFSETTO:-0700
TZNAME:PDT
DTSTART:20250309T100000
END:DAYLIGHT
BEGIN:STANDARD
TZOFFSETFROM:-0700
TZOFFSETTO:-0800
TZNAME:PST
DTSTART:20251102T090000
END:STANDARD
BEGIN:DAYLIGHT
TZOFFSETFROM:-0800
TZOFFSETTO:-0700
TZNAME:PDT
DTSTART:20260308T100000
END:DAYLIGHT
BEGIN:STANDARD
TZOFFSETFROM:-0700
TZOFFSETTO:-0800
TZNAME:PST
DTSTART:20261101T090000
END:STANDARD
BEGIN:DAYLIGHT
TZOFFSETFROM:-0800
TZOFFSETTO:-0700
TZNAME:PDT
DTSTART:20270314T100000
END:DAYLIGHT
BEGIN:STANDARD
TZOFFSETFROM:-0700
TZOFFSETTO:-0800
TZNAME:PST
DTSTART:20271107T090000
END:STANDARD
END:VTIMEZONE
BEGIN:VEVENT
DTSTART;TZID=America/Los_Angeles:20260211T150000
DTEND;TZID=America/Los_Angeles:20260211T170000
DTSTAMP:20260423T121732
CREATED:20251209T182744Z
LAST-MODIFIED:20251209T182744Z
UID:7365-1770822000-1770829200@nocymusic.com
SUMMARY:Peninsula Pointe Palos Vardes
DESCRIPTION:
URL:https://nocymusic.com/event/peninsula-pointe-palos-vardes/
END:VEVENT
BEGIN:VEVENT
DTSTART;TZID=America/Los_Angeles:20260207T130000
DTEND;TZID=America/Los_Angeles:20260207T140000
DTSTAMP:20260423T121732
CREATED:20251113T185302Z
LAST-MODIFIED:20251113T185302Z
UID:7258-1770469200-1770472800@nocymusic.com
SUMMARY:Welbrook Santa Monica
DESCRIPTION:
URL:https://nocymusic.com/event/welbrook-santa-monica-4/
END:VEVENT
BEGIN:VEVENT
DTSTART;TZID=America/Los_Angeles:20260205T140000
DTEND;TZID=America/Los_Angeles:20260205T170000
DTSTAMP:20260423T121732
CREATED:20251227T204525Z
LAST-MODIFIED:20251227T204525Z
UID:7484-1770300000-1770310800@nocymusic.com
SUMMARY:Kensington Redondo Beach
DESCRIPTION:
URL:https://nocymusic.com/event/kensington-redondo-beach-4/
END:VEVENT
BEGIN:VEVENT
DTSTART;TZID=America/Los_Angeles:20260203T153000
DTEND;TZID=America/Los_Angeles:20260203T170000
DTSTAMP:20260423T121732
CREATED:20251227T032502Z
LAST-MODIFIED:20251227T032502Z
UID:7430-1770132600-1770138000@nocymusic.com
SUMMARY:Calligraphy Westwood Village
DESCRIPTION:
URL:https://nocymusic.com/event/calligraphy-westwood-village-5/
END:VEVENT
BEGIN:VEVENT
DTSTART;TZID=America/Los_Angeles:20260201T143000
DTEND;TZID=America/Los_Angeles:20260201T170000
DTSTAMP:20260423T121732
CREATED:20251209T182952Z
LAST-MODIFIED:20251209T190458Z
UID:7367-1769956200-1769965200@nocymusic.com
SUMMARY:Peninsula Pointe Palos Verdes
DESCRIPTION:
URL:https://nocymusic.com/event/peninsula-pointe-palos-verdes-2/
END:VEVENT
BEGIN:VEVENT
DTSTART;TZID=America/Los_Angeles:20260130T140000
DTEND;TZID=America/Los_Angeles:20260130T150000
DTSTAMP:20260423T121732
CREATED:20251205T021640Z
LAST-MODIFIED:20251209T094808Z
UID:7344-1769781600-1769785200@nocymusic.com
SUMMARY:Pinnacles Beverly Hills
DESCRIPTION:
URL:https://nocymusic.com/event/pinnacles-beverly-hills/
END:VEVENT
BEGIN:VEVENT
DTSTART;TZID=America/Los_Angeles:20260128T160000
DTEND;TZID=America/Los_Angeles:20260128T170000
DTSTAMP:20260423T121732
CREATED:20251211T180131Z
LAST-MODIFIED:20251211T180131Z
UID:7396-1769616000-1769619600@nocymusic.com
SUMMARY:Cogir Torrance
DESCRIPTION:
URL:https://nocymusic.com/event/cogir-torrance-9/
END:VEVENT
BEGIN:VEVENT
DTSTART;TZID=America/Los_Angeles:20260124T140000
DTEND;TZID=America/Los_Angeles:20260124T170000
DTSTAMP:20260423T121732
CREATED:20251228T003515Z
LAST-MODIFIED:20251228T003515Z
UID:7538-1769263200-1769274000@nocymusic.com
SUMMARY:Kensington Redondo Beach
DESCRIPTION:
URL:https://nocymusic.com/event/kensington-redondo-beach-30/
END:VEVENT
BEGIN:VEVENT
DTSTART;TZID=America/Los_Angeles:20260123T160000
DTEND;TZID=America/Los_Angeles:20260123T170000
DTSTAMP:20260423T121732
CREATED:20260120T052611Z
LAST-MODIFIED:20260120T052611Z
UID:7571-1769184000-1769187600@nocymusic.com
SUMMARY:NAMM Show 2026 Anaheim Convention Center
DESCRIPTION:
URL:https://nocymusic.com/event/namm-show-2026-anaheim-convention-center/
END:VEVENT
BEGIN:VEVENT
DTSTART;TZID=America/Los_Angeles:20260120T153000
DTEND;TZID=America/Los_Angeles:20260120T170000
DTSTAMP:20260423T121732
CREATED:20251227T032410Z
LAST-MODIFIED:20251227T032410Z
UID:7428-1768923000-1768928400@nocymusic.com
SUMMARY:Calligraphy Westwood village
DESCRIPTION:
URL:https://nocymusic.com/event/calligraphy-westwood-village-4/
END:VEVENT
BEGIN:VEVENT
DTSTART;TZID=America/Los_Angeles:20260118T140000
DTEND;TZID=America/Los_Angeles:20260118T150000
DTSTAMP:20260423T121732
CREATED:20251126T185529Z
LAST-MODIFIED:20260105T173119Z
UID:7302-1768744800-1768748400@nocymusic.com
SUMMARY:Studio Royale Culver City
DESCRIPTION:
URL:https://nocymusic.com/event/studio-royale-culver-city-11/
END:VEVENT
BEGIN:VEVENT
DTSTART;TZID=America/Los_Angeles:20260115T140000
DTEND;TZID=America/Los_Angeles:20260115T170000
DTSTAMP:20260423T121732
CREATED:20251227T204434Z
LAST-MODIFIED:20251227T204434Z
UID:7482-1768485600-1768496400@nocymusic.com
SUMMARY:Kensington Redondo Beach
DESCRIPTION:
URL:https://nocymusic.com/event/kensington-redondo-beach-3/
END:VEVENT
BEGIN:VEVENT
DTSTART;TZID=America/Los_Angeles:20260114T150000
DTEND;TZID=America/Los_Angeles:20260114T170000
DTSTAMP:20260423T121732
CREATED:20251209T182415Z
LAST-MODIFIED:20251209T182516Z
UID:7363-1768402800-1768410000@nocymusic.com
SUMMARY:Peninsula Pointe Palos Verdes
DESCRIPTION:
URL:https://nocymusic.com/event/peninsula-pointe-palos-verdes/
END:VEVENT
BEGIN:VEVENT
DTSTART;TZID=America/Los_Angeles:20260110T143000
DTEND;TZID=America/Los_Angeles:20260110T170000
DTSTAMP:20260423T121732
CREATED:20251209T181733Z
LAST-MODIFIED:20251228T004235Z
UID:7358-1768055400-1768064400@nocymusic.com
SUMMARY:Peninsula Pointe Palos Verdes
DESCRIPTION:
URL:https://nocymusic.com/event/peninsula-pointe-15/
END:VEVENT
BEGIN:VEVENT
DTSTART;TZID=America/Los_Angeles:20260109T123000
DTEND;TZID=America/Los_Angeles:20260109T133000
DTSTAMP:20260423T121732
CREATED:20251126T185211Z
LAST-MODIFIED:20251216T185639Z
UID:7297-1767961800-1767965400@nocymusic.com
SUMMARY:Jewish Family Center Los Angeles
DESCRIPTION:
URL:https://nocymusic.com/event/jewish-family-center-5/
END:VEVENT
BEGIN:VEVENT
DTSTART;TZID=America/Los_Angeles:20260108T140000
DTEND;TZID=America/Los_Angeles:20260108T170000
DTSTAMP:20260423T121732
CREATED:20251227T204346Z
LAST-MODIFIED:20251227T204346Z
UID:7480-1767880800-1767891600@nocymusic.com
SUMMARY:Kensington Redondo Beach
DESCRIPTION:
URL:https://nocymusic.com/event/kensington-redondo-beach-2/
END:VEVENT
BEGIN:VEVENT
DTSTART;TZID=America/Los_Angeles:20260106T153000
DTEND;TZID=America/Los_Angeles:20260106T170000
DTSTAMP:20260423T121732
CREATED:20251227T032251Z
LAST-MODIFIED:20251227T032321Z
UID:7425-1767713400-1767718800@nocymusic.com
SUMMARY:Calligraphy Westwood Village
DESCRIPTION:
URL:https://nocymusic.com/event/calligraphy/
END:VEVENT
BEGIN:VEVENT
DTSTART;TZID=America/Los_Angeles:20260103T150000
DTEND;TZID=America/Los_Angeles:20260103T170000
DTSTAMP:20260423T121732
CREATED:20251228T003437Z
LAST-MODIFIED:20251228T003437Z
UID:7536-1767452400-1767459600@nocymusic.com
SUMMARY:Kensington Redondo Beach
DESCRIPTION:
URL:https://nocymusic.com/event/kensington-redondo-beach-29/
END:VEVENT
BEGIN:VEVENT
DTSTART;TZID=America/Los_Angeles:20260103T130000
DTEND;TZID=America/Los_Angeles:20260103T140000
DTSTAMP:20260423T121732
CREATED:20251113T185203Z
LAST-MODIFIED:20251113T185341Z
UID:7256-1767445200-1767448800@nocymusic.com
SUMMARY:Welbrook Santa Monica
DESCRIPTION:
URL:https://nocymusic.com/event/welbrook-santa-monica-3/
END:VEVENT
BEGIN:VEVENT
DTSTART;TZID=America/Los_Angeles:20251228T140000
DTEND;TZID=America/Los_Angeles:20251228T150000
DTSTAMP:20260423T121732
CREATED:20250901T022226Z
LAST-MODIFIED:20250901T022226Z
UID:7068-1766930400-1766934000@nocymusic.com
SUMMARY:Studio Royale Culver City
DESCRIPTION:
URL:https://nocymusic.com/event/studio-royale-culver-city-8/
END:VEVENT
BEGIN:VEVENT
DTSTART;TZID=America/Los_Angeles:20251226T140000
DTEND;TZID=America/Los_Angeles:20251226T150000
DTSTAMP:20260423T121732
CREATED:20250226T180616Z
LAST-MODIFIED:20250429T172454Z
UID:6614-1766757600-1766761200@nocymusic.com
SUMMARY:The Pinnacles  Beverly Hills
DESCRIPTION:
URL:https://nocymusic.com/event/the-pinnacles-at-burton-beverly-hills-2/
END:VEVENT
BEGIN:VEVENT
DTSTART;TZID=America/Los_Angeles:20251225T153000
DTEND;TZID=America/Los_Angeles:20251225T163000
DTSTAMP:20260423T121732
CREATED:20251126T190946Z
LAST-MODIFIED:20251126T190946Z
UID:7331-1766676600-1766680200@nocymusic.com
SUMMARY:Calligraphy Westwood Village
DESCRIPTION:
URL:https://nocymusic.com/event/calligraphy-westwood-village-3/
END:VEVENT
BEGIN:VEVENT
DTSTART;TZID=America/Los_Angeles:20251225T140000
DTEND;TZID=America/Los_Angeles:20251225T150000
DTSTAMP:20260423T121732
CREATED:20250929T031554Z
LAST-MODIFIED:20251126T191041Z
UID:7154-1766671200-1766674800@nocymusic.com
SUMMARY:Studio Royale Culver City
DESCRIPTION:
URL:https://nocymusic.com/event/studio-royale-culver-city-10/
END:VEVENT
BEGIN:VEVENT
DTSTART;TZID=America/Los_Angeles:20251224T140000
DTEND;TZID=America/Los_Angeles:20251224T150000
DTSTAMP:20260423T121732
CREATED:20251014T222304Z
LAST-MODIFIED:20251209T182013Z
UID:7197-1766584800-1766588400@nocymusic.com
SUMMARY:Peninsula Pointe Palos Verdes
DESCRIPTION:
URL:https://nocymusic.com/event/peninsula-pointe-14/
END:VEVENT
BEGIN:VEVENT
DTSTART;TZID=America/Los_Angeles:20251220T180000
DTEND;TZID=America/Los_Angeles:20251220T203000
DTSTAMP:20260423T121732
CREATED:20251108T195841Z
LAST-MODIFIED:20251108T195841Z
UID:7251-1766253600-1766262600@nocymusic.com
SUMMARY:Langham Hotel Pasadena
DESCRIPTION:
URL:https://nocymusic.com/event/langham-hotel-pasadena/
END:VEVENT
BEGIN:VEVENT
DTSTART;TZID=America/Los_Angeles:20251218T140000
DTEND;TZID=America/Los_Angeles:20251218T170000
DTSTAMP:20260423T121732
CREATED:20250123T003559Z
LAST-MODIFIED:20250429T174509Z
UID:6474-1766066400-1766077200@nocymusic.com
SUMMARY:The Kensington Redondo Beach
DESCRIPTION:
URL:https://nocymusic.com/event/the-kensington-redondo-beach-24/
END:VEVENT
BEGIN:VEVENT
DTSTART;TZID=America/Los_Angeles:20251216T153000
DTEND;TZID=America/Los_Angeles:20251216T163000
DTSTAMP:20260423T121732
CREATED:20251126T190727Z
LAST-MODIFIED:20251126T190727Z
UID:7329-1765899000-1765902600@nocymusic.com
SUMMARY:Calligraphy Westwood Village
DESCRIPTION:
URL:https://nocymusic.com/event/calligraphy-westwood-village-2/
END:VEVENT
BEGIN:VEVENT
DTSTART;TZID=America/Los_Angeles:20251214T200000
DTEND;TZID=America/Los_Angeles:20251214T210000
DTSTAMP:20260423T121732
CREATED:20251108T195617Z
LAST-MODIFIED:20251209T182216Z
UID:7248-1765742400-1765746000@nocymusic.com
SUMMARY:Jewish Temple Los Angeles
DESCRIPTION:
URL:https://nocymusic.com/event/jewish-family-center-4/
END:VEVENT
BEGIN:VEVENT
DTSTART;TZID=America/Los_Angeles:20251213T133000
DTEND;TZID=America/Los_Angeles:20251213T143000
DTSTAMP:20260423T121732
CREATED:20250618T073413Z
LAST-MODIFIED:20250618T073413Z
UID:6895-1765632600-1765636200@nocymusic.com
SUMMARY:Brookdale Santa Monica
DESCRIPTION:
URL:https://nocymusic.com/event/brookdale-santa-monica-2/
END:VEVENT
BEGIN:VEVENT
DTSTART;TZID=America/Los_Angeles:20251209T140000
DTEND;TZID=America/Los_Angeles:20251209T170000
DTSTAMP:20260423T121732
CREATED:20251219T195504Z
LAST-MODIFIED:20251219T195504Z
UID:7418-1765288800-1765299600@nocymusic.com
SUMMARY:Kensington Redondo Beach
DESCRIPTION:
URL:https://nocymusic.com/event/kensington-redondo-beach/
END:VEVENT
END:VCALENDAR