BEGIN:VCALENDAR
VERSION:2.0
PRODID:-//Nocymusic - ECPv6.15.20//NONSGML v1.0//EN
CALSCALE:GREGORIAN
METHOD:PUBLISH
X-ORIGINAL-URL:https://nocymusic.com
X-WR-CALDESC:Events for Nocymusic
REFRESH-INTERVAL;VALUE=DURATION:PT1H
X-Robots-Tag:noindex
X-PUBLISHED-TTL:PT1H
BEGIN:VTIMEZONE
TZID:America/Los_Angeles
BEGIN:DAYLIGHT
TZOFFSETFROM:-0800
TZOFFSETTO:-0700
TZNAME:PDT
DTSTART:20250309T100000
END:DAYLIGHT
BEGIN:STANDARD
TZOFFSETFROM:-0700
TZOFFSETTO:-0800
TZNAME:PST
DTSTART:20251102T090000
END:STANDARD
BEGIN:DAYLIGHT
TZOFFSETFROM:-0800
TZOFFSETTO:-0700
TZNAME:PDT
DTSTART:20260308T100000
END:DAYLIGHT
BEGIN:STANDARD
TZOFFSETFROM:-0700
TZOFFSETTO:-0800
TZNAME:PST
DTSTART:20261101T090000
END:STANDARD
BEGIN:DAYLIGHT
TZOFFSETFROM:-0800
TZOFFSETTO:-0700
TZNAME:PDT
DTSTART:20270314T100000
END:DAYLIGHT
BEGIN:STANDARD
TZOFFSETFROM:-0700
TZOFFSETTO:-0800
TZNAME:PST
DTSTART:20271107T090000
END:STANDARD
END:VTIMEZONE
BEGIN:VEVENT
DTSTART;TZID=America/Los_Angeles:20260707T153000
DTEND;TZID=America/Los_Angeles:20260707T170000
DTSTAMP:20260423T104921
CREATED:20251227T033407Z
LAST-MODIFIED:20251227T033407Z
UID:7454-1783438200-1783443600@nocymusic.com
SUMMARY:Calligraphy Westwood Village
DESCRIPTION:
URL:https://nocymusic.com/event/calligraphy-westwood-village-17/
END:VEVENT
BEGIN:VEVENT
DTSTART;TZID=America/Los_Angeles:20260708T150000
DTEND;TZID=America/Los_Angeles:20260708T170000
DTSTAMP:20260423T104921
CREATED:20251209T192123Z
LAST-MODIFIED:20251209T192123Z
UID:7382-1783522800-1783530000@nocymusic.com
SUMMARY:Peninsula Pointe Palos Verdes
DESCRIPTION:
URL:https://nocymusic.com/event/peninsula-pointe-palos-verdes-9/
END:VEVENT
BEGIN:VEVENT
DTSTART;TZID=America/Los_Angeles:20260716T140000
DTEND;TZID=America/Los_Angeles:20260716T170000
DTSTAMP:20260423T104921
CREATED:20251227T205405Z
LAST-MODIFIED:20251227T205405Z
UID:7510-1784210400-1784221200@nocymusic.com
SUMMARY:Kensington Redondo Beach
DESCRIPTION:
URL:https://nocymusic.com/event/kensington-redondo-beach-16/
END:VEVENT
BEGIN:VEVENT
DTSTART;TZID=America/Los_Angeles:20260719T143000
DTEND;TZID=America/Los_Angeles:20260719T170000
DTSTAMP:20260423T104921
CREATED:20260213T191821Z
LAST-MODIFIED:20260213T191821Z
UID:7617-1784471400-1784480400@nocymusic.com
SUMMARY:Peninsula Pointe Palos Verdes
DESCRIPTION:
URL:https://nocymusic.com/event/peninsula-pointe-palos-verdes-18/
END:VEVENT
BEGIN:VEVENT
DTSTART;TZID=America/Los_Angeles:20260721T153000
DTEND;TZID=America/Los_Angeles:20260721T170000
DTSTAMP:20260423T104921
CREATED:20251227T033452Z
LAST-MODIFIED:20251227T033452Z
UID:7456-1784647800-1784653200@nocymusic.com
SUMMARY:Calligraphy Westwood Village
DESCRIPTION:
URL:https://nocymusic.com/event/calligraphy-westwood-village-18/
END:VEVENT
BEGIN:VEVENT
DTSTART;TZID=America/Los_Angeles:20260726T140000
DTEND;TZID=America/Los_Angeles:20260726T150000
DTSTAMP:20260423T104921
CREATED:20251126T190044Z
LAST-MODIFIED:20251126T190044Z
UID:7316-1785074400-1785078000@nocymusic.com
SUMMARY:Studio Royale Culver City
DESCRIPTION:
URL:https://nocymusic.com/event/studio-royale-culver-city-18/
END:VEVENT
BEGIN:VEVENT
DTSTART;TZID=America/Los_Angeles:20260801T130000
DTEND;TZID=America/Los_Angeles:20260801T140000
DTSTAMP:20260423T104921
CREATED:20251113T185815Z
LAST-MODIFIED:20251113T185815Z
UID:7270-1785589200-1785592800@nocymusic.com
SUMMARY:Welbrook Santa Monica
DESCRIPTION:
URL:https://nocymusic.com/event/welbrook-santa-monica-10/
END:VEVENT
BEGIN:VEVENT
DTSTART;TZID=America/Los_Angeles:20260804T153000
DTEND;TZID=America/Los_Angeles:20260804T170000
DTSTAMP:20260423T104921
CREATED:20251227T033532Z
LAST-MODIFIED:20251227T033532Z
UID:7458-1785857400-1785862800@nocymusic.com
SUMMARY:Calligraphy Westwood Village
DESCRIPTION:
URL:https://nocymusic.com/event/calligraphy-westwood-village-19/
END:VEVENT
BEGIN:VEVENT
DTSTART;TZID=America/Los_Angeles:20260806T140000
DTEND;TZID=America/Los_Angeles:20260806T170000
DTSTAMP:20260423T104921
CREATED:20251227T205448Z
LAST-MODIFIED:20251227T205448Z
UID:7512-1786024800-1786035600@nocymusic.com
SUMMARY:Kensington Redondo Beach
DESCRIPTION:
URL:https://nocymusic.com/event/kensington-redondo-beach-17/
END:VEVENT
BEGIN:VEVENT
DTSTART;TZID=America/Los_Angeles:20260812T150000
DTEND;TZID=America/Los_Angeles:20260812T170000
DTSTAMP:20260423T104921
CREATED:20251209T192202Z
LAST-MODIFIED:20251209T192202Z
UID:7384-1786546800-1786554000@nocymusic.com
SUMMARY:Peninsula Pointe Palos Verdes
DESCRIPTION:
URL:https://nocymusic.com/event/peninsula-pointe-palos-verdes-10/
END:VEVENT
BEGIN:VEVENT
DTSTART;TZID=America/Los_Angeles:20260818T153000
DTEND;TZID=America/Los_Angeles:20260818T170000
DTSTAMP:20260423T104921
CREATED:20251227T033610Z
LAST-MODIFIED:20251227T033610Z
UID:7460-1787067000-1787072400@nocymusic.com
SUMMARY:Calligraphy Westwood Village
DESCRIPTION:
URL:https://nocymusic.com/event/calligraphy-westwood-village-20/
END:VEVENT
BEGIN:VEVENT
DTSTART;TZID=America/Los_Angeles:20260820T140000
DTEND;TZID=America/Los_Angeles:20260820T170000
DTSTAMP:20260423T104921
CREATED:20251227T205542Z
LAST-MODIFIED:20251227T205542Z
UID:7514-1787234400-1787245200@nocymusic.com
SUMMARY:Kensington Redondo Beach
DESCRIPTION:
URL:https://nocymusic.com/event/kensington-redondo-beach-18/
END:VEVENT
BEGIN:VEVENT
DTSTART;TZID=America/Los_Angeles:20260829T143000
DTEND;TZID=America/Los_Angeles:20260829T170000
DTSTAMP:20260423T104921
CREATED:20260213T191952Z
LAST-MODIFIED:20260213T194245Z
UID:7619-1788013800-1788022800@nocymusic.com
SUMMARY:Peninsula Pointe Palos Verdes
DESCRIPTION:
URL:https://nocymusic.com/event/peninsula-pointe-palos-verdes-19/
END:VEVENT
BEGIN:VEVENT
DTSTART;TZID=America/Los_Angeles:20260830T080000
DTEND;TZID=America/Los_Angeles:20260830T150000
DTSTAMP:20260423T104921
CREATED:20251126T190122Z
LAST-MODIFIED:20251126T190122Z
UID:7318-1788076800-1788102000@nocymusic.com
SUMMARY:Studio Royale Culver City
DESCRIPTION:
URL:https://nocymusic.com/event/studio-royale-culver-city-19/
END:VEVENT
BEGIN:VEVENT
DTSTART;TZID=America/Los_Angeles:20260901T153000
DTEND;TZID=America/Los_Angeles:20260901T170000
DTSTAMP:20260423T104921
CREATED:20251227T033654Z
LAST-MODIFIED:20251227T033654Z
UID:7462-1788276600-1788282000@nocymusic.com
SUMMARY:Calligraphy Westwood Village
DESCRIPTION:
URL:https://nocymusic.com/event/calligraphy-westwood-village-21/
END:VEVENT
BEGIN:VEVENT
DTSTART;TZID=America/Los_Angeles:20260903T140000
DTEND;TZID=America/Los_Angeles:20260903T170000
DTSTAMP:20260423T104921
CREATED:20251227T205628Z
LAST-MODIFIED:20251227T205628Z
UID:7516-1788444000-1788454800@nocymusic.com
SUMMARY:Kensington Redondo Beach
DESCRIPTION:
URL:https://nocymusic.com/event/kensington-redondo-beach-19/
END:VEVENT
BEGIN:VEVENT
DTSTART;TZID=America/Los_Angeles:20260905T130000
DTEND;TZID=America/Los_Angeles:20260905T140000
DTSTAMP:20260423T104921
CREATED:20251113T185902Z
LAST-MODIFIED:20251113T185902Z
UID:7272-1788613200-1788616800@nocymusic.com
SUMMARY:Welbrook Santa Monica
DESCRIPTION:
URL:https://nocymusic.com/event/welbrook-santa-monica-11/
END:VEVENT
BEGIN:VEVENT
DTSTART;TZID=America/Los_Angeles:20260909T150000
DTEND;TZID=America/Los_Angeles:20260909T170000
DTSTAMP:20260423T104921
CREATED:20251209T192246Z
LAST-MODIFIED:20251209T192246Z
UID:7386-1788966000-1788973200@nocymusic.com
SUMMARY:Peninsula Pointe Palos Verdes
DESCRIPTION:
URL:https://nocymusic.com/event/peninsula-pointe-palos-verdes-11/
END:VEVENT
BEGIN:VEVENT
DTSTART;TZID=America/Los_Angeles:20260915T153000
DTEND;TZID=America/Los_Angeles:20260915T170000
DTSTAMP:20260423T104921
CREATED:20251227T033802Z
LAST-MODIFIED:20251227T033802Z
UID:7464-1789486200-1789491600@nocymusic.com
SUMMARY:Calligraphy Westwood Village
DESCRIPTION:
URL:https://nocymusic.com/event/calligraphy-westwood-village-22/
END:VEVENT
BEGIN:VEVENT
DTSTART;TZID=America/Los_Angeles:20260917T140000
DTEND;TZID=America/Los_Angeles:20260917T170000
DTSTAMP:20260423T104921
CREATED:20251227T205712Z
LAST-MODIFIED:20251227T205712Z
UID:7518-1789653600-1789664400@nocymusic.com
SUMMARY:Kensington Redondo Beach
DESCRIPTION:
URL:https://nocymusic.com/event/kensington-redondo-beach-20/
END:VEVENT
BEGIN:VEVENT
DTSTART;TZID=America/Los_Angeles:20260919T143000
DTEND;TZID=America/Los_Angeles:20260919T170000
DTSTAMP:20260423T104921
CREATED:20260213T192510Z
LAST-MODIFIED:20260213T192510Z
UID:7621-1789828200-1789837200@nocymusic.com
SUMMARY:Peninsula Pointe Palos Verdes
DESCRIPTION:
URL:https://nocymusic.com/event/peninsula-pointe-palos-verdes-20/
END:VEVENT
BEGIN:VEVENT
DTSTART;TZID=America/Los_Angeles:20260927T140000
DTEND;TZID=America/Los_Angeles:20260927T150000
DTSTAMP:20260423T104921
CREATED:20251126T190204Z
LAST-MODIFIED:20251126T190204Z
UID:7320-1790517600-1790521200@nocymusic.com
SUMMARY:Studio Royale Culver City
DESCRIPTION:
URL:https://nocymusic.com/event/studio-royale-culver-city-20/
END:VEVENT
BEGIN:VEVENT
DTSTART;TZID=America/Los_Angeles:20261001T140000
DTEND;TZID=America/Los_Angeles:20261001T170000
DTSTAMP:20260423T104921
CREATED:20251227T205752Z
LAST-MODIFIED:20251227T205752Z
UID:7520-1790863200-1790874000@nocymusic.com
SUMMARY:Kensington Redondo Beach
DESCRIPTION:
URL:https://nocymusic.com/event/kensington-redondo-beach-21/
END:VEVENT
BEGIN:VEVENT
DTSTART;TZID=America/Los_Angeles:20261003T130000
DTEND;TZID=America/Los_Angeles:20261003T140000
DTSTAMP:20260423T104921
CREATED:20251113T185944Z
LAST-MODIFIED:20251113T185944Z
UID:7274-1791032400-1791036000@nocymusic.com
SUMMARY:Welbrook Santa Monica
DESCRIPTION:
URL:https://nocymusic.com/event/welbrook-santa-monica-12/
END:VEVENT
BEGIN:VEVENT
DTSTART;TZID=America/Los_Angeles:20261006T153000
DTEND;TZID=America/Los_Angeles:20261006T170000
DTSTAMP:20260423T104921
CREATED:20251227T033903Z
LAST-MODIFIED:20251227T033903Z
UID:7466-1791300600-1791306000@nocymusic.com
SUMMARY:Calligraphy Westwood Village
DESCRIPTION:
URL:https://nocymusic.com/event/calligraphy-westwood-village-23/
END:VEVENT
BEGIN:VEVENT
DTSTART;TZID=America/Los_Angeles:20261014T150000
DTEND;TZID=America/Los_Angeles:20261014T170000
DTSTAMP:20260423T104921
CREATED:20251209T192325Z
LAST-MODIFIED:20251209T192325Z
UID:7388-1791990000-1791997200@nocymusic.com
SUMMARY:Peninsula Pointe Palos verdes
DESCRIPTION:
URL:https://nocymusic.com/event/peninsula-pointe-palos-verdes-12/
END:VEVENT
BEGIN:VEVENT
DTSTART;TZID=America/Los_Angeles:20261015T140000
DTEND;TZID=America/Los_Angeles:20261015T170000
DTSTAMP:20260423T104921
CREATED:20251227T205917Z
LAST-MODIFIED:20251227T205917Z
UID:7524-1792072800-1792083600@nocymusic.com
SUMMARY:Kensington Redondo Beach
DESCRIPTION:
URL:https://nocymusic.com/event/kensington-redondo-beach-23/
END:VEVENT
BEGIN:VEVENT
DTSTART;TZID=America/Los_Angeles:20261018T143000
DTEND;TZID=America/Los_Angeles:20261018T170000
DTSTAMP:20260423T104921
CREATED:20260213T192609Z
LAST-MODIFIED:20260213T192655Z
UID:7623-1792333800-1792342800@nocymusic.com
SUMMARY:Peninsula Pointe Palos Verdes
DESCRIPTION:
URL:https://nocymusic.com/event/peninsula-pointe-palos-verdes-21/
END:VEVENT
BEGIN:VEVENT
DTSTART;TZID=America/Los_Angeles:20261020T080000
DTEND;TZID=America/Los_Angeles:20261020T170000
DTSTAMP:20260423T104921
CREATED:20251227T034039Z
LAST-MODIFIED:20251227T034039Z
UID:7468-1792483200-1792515600@nocymusic.com
SUMMARY:Calligraphy Westwood Village
DESCRIPTION:
URL:https://nocymusic.com/event/calligraphy-westwood-village-24/
END:VEVENT
BEGIN:VEVENT
DTSTART;TZID=America/Los_Angeles:20261025T140000
DTEND;TZID=America/Los_Angeles:20261025T150000
DTSTAMP:20260423T104921
CREATED:20251126T190259Z
LAST-MODIFIED:20251126T190259Z
UID:7322-1792936800-1792940400@nocymusic.com
SUMMARY:Studio Royale Culver City
DESCRIPTION:
URL:https://nocymusic.com/event/studio-royale-culver-city-21/
END:VEVENT
END:VCALENDAR