BEGIN:VCALENDAR
VERSION:2.0
PRODID:-//Nocymusic - ECPv6.15.20//NONSGML v1.0//EN
CALSCALE:GREGORIAN
METHOD:PUBLISH
X-WR-CALNAME:Nocymusic
X-ORIGINAL-URL:https://nocymusic.com
X-WR-CALDESC:Events for Nocymusic
REFRESH-INTERVAL;VALUE=DURATION:PT1H
X-Robots-Tag:noindex
X-PUBLISHED-TTL:PT1H
BEGIN:VTIMEZONE
TZID:America/Los_Angeles
BEGIN:DAYLIGHT
TZOFFSETFROM:-0800
TZOFFSETTO:-0700
TZNAME:PDT
DTSTART:20240310T100000
END:DAYLIGHT
BEGIN:STANDARD
TZOFFSETFROM:-0700
TZOFFSETTO:-0800
TZNAME:PST
DTSTART:20241103T090000
END:STANDARD
BEGIN:DAYLIGHT
TZOFFSETFROM:-0800
TZOFFSETTO:-0700
TZNAME:PDT
DTSTART:20250309T100000
END:DAYLIGHT
BEGIN:STANDARD
TZOFFSETFROM:-0700
TZOFFSETTO:-0800
TZNAME:PST
DTSTART:20251102T090000
END:STANDARD
BEGIN:DAYLIGHT
TZOFFSETFROM:-0800
TZOFFSETTO:-0700
TZNAME:PDT
DTSTART:20260308T100000
END:DAYLIGHT
BEGIN:STANDARD
TZOFFSETFROM:-0700
TZOFFSETTO:-0800
TZNAME:PST
DTSTART:20261101T090000
END:STANDARD
END:VTIMEZONE
BEGIN:VEVENT
DTSTART;TZID=America/Los_Angeles:20251126T143000
DTEND;TZID=America/Los_Angeles:20251126T153000
DTSTAMP:20260423T165537
CREATED:20251014T222134Z
LAST-MODIFIED:20251108T195657Z
UID:7193-1764167400-1764171000@nocymusic.com
SUMMARY:Peninsula Pointe Palos Verdes
DESCRIPTION:
URL:https://nocymusic.com/event/peninsula-pointe-12/
END:VEVENT
BEGIN:VEVENT
DTSTART;TZID=America/Los_Angeles:20251121T140000
DTEND;TZID=America/Los_Angeles:20251121T150000
DTSTAMP:20260423T165537
CREATED:20251015T194553Z
LAST-MODIFIED:20251015T194713Z
UID:7199-1763733600-1763737200@nocymusic.com
SUMMARY:The Pinnacles Beverly Hills
DESCRIPTION:
URL:https://nocymusic.com/event/the-pinnacles-beverly-hills/
END:VEVENT
BEGIN:VEVENT
DTSTART;TZID=America/Los_Angeles:20251121T120000
DTEND;TZID=America/Los_Angeles:20251121T130000
DTSTAMP:20260423T165537
CREATED:20251108T195429Z
LAST-MODIFIED:20251108T195429Z
UID:7246-1763726400-1763730000@nocymusic.com
SUMMARY:Rayas Paradise Hollywood
DESCRIPTION:
URL:https://nocymusic.com/event/rayas-paradise-hollywood/
END:VEVENT
BEGIN:VEVENT
DTSTART;TZID=America/Los_Angeles:20251120T140000
DTEND;TZID=America/Los_Angeles:20251120T170000
DTSTAMP:20260423T165537
CREATED:20250123T003544Z
LAST-MODIFIED:20250429T174612Z
UID:6471-1763647200-1763658000@nocymusic.com
SUMMARY:The Kensington Redondo Beach
DESCRIPTION:
URL:https://nocymusic.com/event/the-kensington-redondo-beach-22/
END:VEVENT
BEGIN:VEVENT
DTSTART;TZID=America/Los_Angeles:20251114T180000
DTEND;TZID=America/Los_Angeles:20251114T200000
DTSTAMP:20260423T165537
CREATED:20250809T061608Z
LAST-MODIFIED:20250809T061608Z
UID:7019-1763143200-1763150400@nocymusic.com
SUMMARY:Sun City Summerlin Las Vegas
DESCRIPTION:
URL:https://nocymusic.com/event/sun-city-summerlin-las-vegas/
END:VEVENT
BEGIN:VEVENT
DTSTART;TZID=America/Los_Angeles:20251113T133000
DTEND;TZID=America/Los_Angeles:20251113T143000
DTSTAMP:20260423T165537
CREATED:20250325T032213Z
LAST-MODIFIED:20250325T032213Z
UID:6685-1763040600-1763044200@nocymusic.com
SUMMARY:Jewish Family Center Los Angeles
DESCRIPTION:
URL:https://nocymusic.com/event/jewish-family-center-los-angeles-4/
END:VEVENT
BEGIN:VEVENT
DTSTART;TZID=America/Los_Angeles:20251111T153000
DTEND;TZID=America/Los_Angeles:20251111T163000
DTSTAMP:20260423T165537
CREATED:20251029T071013Z
LAST-MODIFIED:20251029T071013Z
UID:7222-1762875000-1762878600@nocymusic.com
SUMMARY:Calligraphy Westwood Village
DESCRIPTION:
URL:https://nocymusic.com/event/calligraphy-westwood-village/
END:VEVENT
BEGIN:VEVENT
DTSTART;TZID=America/Los_Angeles:20251111T140000
DTEND;TZID=America/Los_Angeles:20251111T150000
DTSTAMP:20260423T165537
CREATED:20250929T031349Z
LAST-MODIFIED:20250929T031445Z
UID:7152-1762869600-1762873200@nocymusic.com
SUMMARY:Studio Royale Culver City
DESCRIPTION:
URL:https://nocymusic.com/event/studio-royale-culver-city-9/
END:VEVENT
BEGIN:VEVENT
DTSTART;TZID=America/Los_Angeles:20251110T143000
DTEND;TZID=America/Los_Angeles:20251110T153000
DTSTAMP:20260423T165537
CREATED:20251014T222056Z
LAST-MODIFIED:20251014T222056Z
UID:7191-1762785000-1762788600@nocymusic.com
SUMMARY:Peninsula Pointe
DESCRIPTION:
URL:https://nocymusic.com/event/peninsula-pointe-11/
END:VEVENT
BEGIN:VEVENT
DTSTART;TZID=America/Los_Angeles:20251108T133000
DTEND;TZID=America/Los_Angeles:20251108T143000
DTSTAMP:20260423T165537
CREATED:20250618T073309Z
LAST-MODIFIED:20250618T073309Z
UID:6891-1762608600-1762612200@nocymusic.com
SUMMARY:Brookdale Santa Monica
DESCRIPTION:
URL:https://nocymusic.com/event/brookdale-santa-monica/
END:VEVENT
BEGIN:VEVENT
DTSTART;TZID=America/Los_Angeles:20251106T140000
DTEND;TZID=America/Los_Angeles:20251106T170000
DTSTAMP:20260423T165537
CREATED:20250123T003544Z
LAST-MODIFIED:20250429T174646Z
UID:6470-1762437600-1762448400@nocymusic.com
SUMMARY:The Kensington Redondo Beach
DESCRIPTION:
URL:https://nocymusic.com/event/the-kensington-redondo-beach-21/
END:VEVENT
BEGIN:VEVENT
DTSTART;TZID=America/Los_Angeles:20251104T123000
DTEND;TZID=America/Los_Angeles:20251104T133000
DTSTAMP:20260423T165537
CREATED:20250325T032106Z
LAST-MODIFIED:20251003T013814Z
UID:6682-1762259400-1762263000@nocymusic.com
SUMMARY:Jewish Family Center Los Angeles
DESCRIPTION:
URL:https://nocymusic.com/event/jewish-family-center-3/
END:VEVENT
BEGIN:VEVENT
DTSTART;TZID=America/Los_Angeles:20251101T130000
DTEND;TZID=America/Los_Angeles:20251101T140000
DTSTAMP:20260423T165537
CREATED:20250123T003544Z
LAST-MODIFIED:20250429T174430Z
UID:6469-1762002000-1762005600@nocymusic.com
SUMMARY:Welbrook Santa Monica
DESCRIPTION:
URL:https://nocymusic.com/event/welbrook-11/
END:VEVENT
BEGIN:VEVENT
DTSTART;TZID=America/Los_Angeles:20251031T140000
DTEND;TZID=America/Los_Angeles:20251031T150000
DTSTAMP:20260423T165537
CREATED:20250901T021948Z
LAST-MODIFIED:20251029T070814Z
UID:7062-1761919200-1761922800@nocymusic.com
SUMMARY:Studio Royale Culver City
DESCRIPTION:
URL:https://nocymusic.com/event/studio-royale-culver-city-5/
END:VEVENT
BEGIN:VEVENT
DTSTART;TZID=America/Los_Angeles:20251029T160000
DTEND;TZID=America/Los_Angeles:20251029T173000
DTSTAMP:20260423T165537
CREATED:20250926T033020Z
LAST-MODIFIED:20250926T033020Z
UID:7144-1761753600-1761759000@nocymusic.com
SUMMARY:Cogir Torrance
DESCRIPTION:
URL:https://nocymusic.com/event/cogir-torrance-7/
END:VEVENT
BEGIN:VEVENT
DTSTART;TZID=America/Los_Angeles:20251028T153000
DTEND;TZID=America/Los_Angeles:20251028T163000
DTSTAMP:20260423T165537
CREATED:20250924T175451Z
LAST-MODIFIED:20250924T175552Z
UID:7138-1761665400-1761669000@nocymusic.com
SUMMARY:Watermark Westwood Village
DESCRIPTION:
URL:https://nocymusic.com/event/watermark-2/
END:VEVENT
BEGIN:VEVENT
DTSTART;TZID=America/Los_Angeles:20251026T140000
DTEND;TZID=America/Los_Angeles:20251026T150000
DTSTAMP:20260423T165537
CREATED:20250901T021853Z
LAST-MODIFIED:20250901T021853Z
UID:7060-1761487200-1761490800@nocymusic.com
SUMMARY:Studio Royale Culver City
DESCRIPTION:
URL:https://nocymusic.com/event/studio-royale-culver-city-4/
END:VEVENT
BEGIN:VEVENT
DTSTART;TZID=America/Los_Angeles:20251023T140000
DTEND;TZID=America/Los_Angeles:20251023T170000
DTSTAMP:20260423T165537
CREATED:20250123T003542Z
LAST-MODIFIED:20250429T174721Z
UID:6468-1761228000-1761238800@nocymusic.com
SUMMARY:The Kensington Redondo Beach
DESCRIPTION:
URL:https://nocymusic.com/event/the-kensington-redondo-beach-20/
END:VEVENT
BEGIN:VEVENT
DTSTART;TZID=America/Los_Angeles:20251018T180000
DTEND;TZID=America/Los_Angeles:20251018T190000
DTSTAMP:20260423T165537
CREATED:20251003T014031Z
LAST-MODIFIED:20251003T014031Z
UID:7159-1760810400-1760814000@nocymusic.com
SUMMARY:Beverly Wilshire Beverly Hills
DESCRIPTION:
URL:https://nocymusic.com/event/beverly-wilshire-beverly-hills/
END:VEVENT
BEGIN:VEVENT
DTSTART;TZID=America/Los_Angeles:20251017T140000
DTEND;TZID=America/Los_Angeles:20251017T150000
DTSTAMP:20260423T165537
CREATED:20250226T180359Z
LAST-MODIFIED:20251011T013608Z
UID:6612-1760709600-1760713200@nocymusic.com
SUMMARY:The Pinnacles  Beverly Hills
DESCRIPTION:
URL:https://nocymusic.com/event/the-pinnacles-at-burton/
END:VEVENT
BEGIN:VEVENT
DTSTART;TZID=America/Los_Angeles:20251016T153000
DTEND;TZID=America/Los_Angeles:20251016T163000
DTSTAMP:20260423T165537
CREATED:20251015T231718Z
LAST-MODIFIED:20251015T231718Z
UID:7201-1760628600-1760632200@nocymusic.com
SUMMARY:The Watermark Westwood Village
DESCRIPTION:
URL:https://nocymusic.com/event/the-watermark-westwood-village-4/
END:VEVENT
BEGIN:VEVENT
DTSTART;TZID=America/Los_Angeles:20251011T133000
DTEND;TZID=America/Los_Angeles:20251011T143000
DTSTAMP:20260423T165537
CREATED:20250618T073028Z
LAST-MODIFIED:20250618T073210Z
UID:6884-1760189400-1760193000@nocymusic.com
SUMMARY:Brookdale Santa Monica
DESCRIPTION:
URL:https://nocymusic.com/event/october-11-brookdale-santa-monica/
END:VEVENT
BEGIN:VEVENT
DTSTART;TZID=America/Los_Angeles:20251009T140000
DTEND;TZID=America/Los_Angeles:20251009T170000
DTSTAMP:20260423T165537
CREATED:20250123T003530Z
LAST-MODIFIED:20250429T174754Z
UID:6467-1760018400-1760029200@nocymusic.com
SUMMARY:The Kensington Redondo Beach
DESCRIPTION:
URL:https://nocymusic.com/event/the-kensington-redondo-beach-19/
END:VEVENT
BEGIN:VEVENT
DTSTART;TZID=America/Los_Angeles:20251008T150000
DTEND;TZID=America/Los_Angeles:20251008T160000
DTSTAMP:20260423T165537
CREATED:20250618T022224Z
LAST-MODIFIED:20250618T073150Z
UID:6874-1759935600-1759939200@nocymusic.com
SUMMARY:Peninsula Pointe Rancho Palos Verdes
DESCRIPTION:
URL:https://nocymusic.com/event/october-8-peninsula-pointe-rancho-palos-verdes/
END:VEVENT
BEGIN:VEVENT
DTSTART;TZID=America/Los_Angeles:20251005T140000
DTEND;TZID=America/Los_Angeles:20251005T150000
DTSTAMP:20260423T165537
CREATED:20250924T205658Z
LAST-MODIFIED:20250924T205658Z
UID:7142-1759672800-1759676400@nocymusic.com
SUMMARY:Belmont Village Rancho Palos Verdes
DESCRIPTION:
URL:https://nocymusic.com/event/belmont-village-rancho-palos-verdes/
END:VEVENT
BEGIN:VEVENT
DTSTART;TZID=America/Los_Angeles:20251004T130000
DTEND;TZID=America/Los_Angeles:20251004T140000
DTSTAMP:20260423T165537
CREATED:20250123T003529Z
LAST-MODIFIED:20250429T172649Z
UID:6466-1759582800-1759586400@nocymusic.com
SUMMARY:Welbrook Santa Monica
DESCRIPTION:
URL:https://nocymusic.com/event/welbrook-10/
END:VEVENT
BEGIN:VEVENT
DTSTART;TZID=America/Los_Angeles:20251002T153000
DTEND;TZID=America/Los_Angeles:20251002T163000
DTSTAMP:20260423T165537
CREATED:20250924T175355Z
LAST-MODIFIED:20250924T180026Z
UID:7136-1759419000-1759422600@nocymusic.com
SUMMARY:Watermark Westwood Village
DESCRIPTION:
URL:https://nocymusic.com/event/watermark/
END:VEVENT
BEGIN:VEVENT
DTSTART;TZID=America/Los_Angeles:20250928T140000
DTEND;TZID=America/Los_Angeles:20250928T150000
DTSTAMP:20260423T165537
CREATED:20250901T022035Z
LAST-MODIFIED:20250901T022035Z
UID:7064-1759068000-1759071600@nocymusic.com
SUMMARY:Studio Royale Culver City
DESCRIPTION:
URL:https://nocymusic.com/event/studio-royale-culver-city-6/
END:VEVENT
BEGIN:VEVENT
DTSTART;TZID=America/Los_Angeles:20250928T120000
DTEND;TZID=America/Los_Angeles:20250928T130000
DTSTAMP:20260423T165537
CREATED:20250928T014418Z
LAST-MODIFIED:20250928T014452Z
UID:7146-1759060800-1759064400@nocymusic.com
SUMMARY:Peninsula Pointe Palos Verdes
DESCRIPTION:
URL:https://nocymusic.com/event/peninsula-pointe-10/
END:VEVENT
BEGIN:VEVENT
DTSTART;TZID=America/Los_Angeles:20250927T130000
DTEND;TZID=America/Los_Angeles:20250927T160000
DTSTAMP:20260423T165537
CREATED:20250809T061439Z
LAST-MODIFIED:20250809T061514Z
UID:7016-1758978000-1758988800@nocymusic.com
SUMMARY:Welbrook Santa Monica
DESCRIPTION:
URL:https://nocymusic.com/event/welbrook-13/
END:VEVENT
END:VCALENDAR