BEGIN:VCALENDAR
VERSION:2.0
PRODID:-//Nocymusic - ECPv6.15.20//NONSGML v1.0//EN
CALSCALE:GREGORIAN
METHOD:PUBLISH
X-WR-CALNAME:Nocymusic
X-ORIGINAL-URL:https://nocymusic.com
X-WR-CALDESC:Events for Nocymusic
REFRESH-INTERVAL;VALUE=DURATION:PT1H
X-Robots-Tag:noindex
X-PUBLISHED-TTL:PT1H
BEGIN:VTIMEZONE
TZID:America/Los_Angeles
BEGIN:DAYLIGHT
TZOFFSETFROM:-0800
TZOFFSETTO:-0700
TZNAME:PDT
DTSTART:20250309T100000
END:DAYLIGHT
BEGIN:STANDARD
TZOFFSETFROM:-0700
TZOFFSETTO:-0800
TZNAME:PST
DTSTART:20251102T090000
END:STANDARD
BEGIN:DAYLIGHT
TZOFFSETFROM:-0800
TZOFFSETTO:-0700
TZNAME:PDT
DTSTART:20260308T100000
END:DAYLIGHT
BEGIN:STANDARD
TZOFFSETFROM:-0700
TZOFFSETTO:-0800
TZNAME:PST
DTSTART:20261101T090000
END:STANDARD
BEGIN:DAYLIGHT
TZOFFSETFROM:-0800
TZOFFSETTO:-0700
TZNAME:PDT
DTSTART:20270314T100000
END:DAYLIGHT
BEGIN:STANDARD
TZOFFSETFROM:-0700
TZOFFSETTO:-0800
TZNAME:PST
DTSTART:20271107T090000
END:STANDARD
END:VTIMEZONE
BEGIN:VEVENT
DTSTART;TZID=America/Los_Angeles:20261119T140000
DTEND;TZID=America/Los_Angeles:20261119T170000
DTSTAMP:20260423T151811
CREATED:20251227T210133Z
LAST-MODIFIED:20251227T210133Z
UID:7530-1795096800-1795107600@nocymusic.com
SUMMARY:Kensington Redondo Beach
DESCRIPTION:
URL:https://nocymusic.com/event/kensington-redondo-beach-26/
END:VEVENT
BEGIN:VEVENT
DTSTART;TZID=America/Los_Angeles:20261122T140000
DTEND;TZID=America/Los_Angeles:20261122T150000
DTSTAMP:20260423T151811
CREATED:20251113T185043Z
LAST-MODIFIED:20251113T185043Z
UID:7254-1795356000-1795359600@nocymusic.com
SUMMARY:Belmont Village Rancho Palos Verdes
DESCRIPTION:
URL:https://nocymusic.com/event/belmont-village-rancho-palos-verdes-2/
END:VEVENT
BEGIN:VEVENT
DTSTART;TZID=America/Los_Angeles:20261129T140000
DTEND;TZID=America/Los_Angeles:20261129T150000
DTSTAMP:20260423T151811
CREATED:20251126T190352Z
LAST-MODIFIED:20251126T190352Z
UID:7324-1795960800-1795964400@nocymusic.com
SUMMARY:Studio Royale Culver City
DESCRIPTION:
URL:https://nocymusic.com/event/studio-royale-culver-city-22/
END:VEVENT
BEGIN:VEVENT
DTSTART;TZID=America/Los_Angeles:20261129T143000
DTEND;TZID=America/Los_Angeles:20261129T170000
DTSTAMP:20260423T151811
CREATED:20260213T192746Z
LAST-MODIFIED:20260213T192746Z
UID:7625-1795962600-1795971600@nocymusic.com
SUMMARY:Peninsula Pointe Palos Verdes
DESCRIPTION:
URL:https://nocymusic.com/event/peninsula-pointe-palos-verdes-22/
END:VEVENT
BEGIN:VEVENT
DTSTART;TZID=America/Los_Angeles:20261201T153000
DTEND;TZID=America/Los_Angeles:20261201T170000
DTSTAMP:20260423T151811
CREATED:20251227T034345Z
LAST-MODIFIED:20251227T034345Z
UID:7474-1796139000-1796144400@nocymusic.com
SUMMARY:Calligraphy Westwood Village
DESCRIPTION:
URL:https://nocymusic.com/event/calligraphy-westwood-village-27/
END:VEVENT
BEGIN:VEVENT
DTSTART;TZID=America/Los_Angeles:20261203T140000
DTEND;TZID=America/Los_Angeles:20261203T170000
DTSTAMP:20260423T151811
CREATED:20251227T210216Z
LAST-MODIFIED:20251227T210216Z
UID:7532-1796306400-1796317200@nocymusic.com
SUMMARY:Kensington Redondo Beach
DESCRIPTION:
URL:https://nocymusic.com/event/kensington-redondo-beach-27/
END:VEVENT
BEGIN:VEVENT
DTSTART;TZID=America/Los_Angeles:20261205T130000
DTEND;TZID=America/Los_Angeles:20261205T140000
DTSTAMP:20260423T151811
CREATED:20251113T190117Z
LAST-MODIFIED:20251113T190117Z
UID:7278-1796475600-1796479200@nocymusic.com
SUMMARY:Welbrook Santa Monica
DESCRIPTION:
URL:https://nocymusic.com/event/welbrook-santa-monica-14/
END:VEVENT
BEGIN:VEVENT
DTSTART;TZID=America/Los_Angeles:20261209T150000
DTEND;TZID=America/Los_Angeles:20261209T170000
DTSTAMP:20260423T151811
CREATED:20251209T192452Z
LAST-MODIFIED:20251209T192452Z
UID:7392-1796828400-1796835600@nocymusic.com
SUMMARY:Peninsula Pointe Palos Verdes
DESCRIPTION:
URL:https://nocymusic.com/event/peninsula-pointe-palos-verdes-14/
END:VEVENT
BEGIN:VEVENT
DTSTART;TZID=America/Los_Angeles:20261215T153000
DTEND;TZID=America/Los_Angeles:20261215T170000
DTSTAMP:20260423T151811
CREATED:20251227T034448Z
LAST-MODIFIED:20251227T034448Z
UID:7476-1797348600-1797354000@nocymusic.com
SUMMARY:Calligraphy Westwood Village
DESCRIPTION:
URL:https://nocymusic.com/event/calligraphy-westwood-village-28/
END:VEVENT
BEGIN:VEVENT
DTSTART;TZID=America/Los_Angeles:20261217T140000
DTEND;TZID=America/Los_Angeles:20261217T170000
DTSTAMP:20260423T151811
CREATED:20251227T210324Z
LAST-MODIFIED:20251227T210324Z
UID:7534-1797516000-1797526800@nocymusic.com
SUMMARY:Kensington Redondo Beach
DESCRIPTION:
URL:https://nocymusic.com/event/kensington-redondo-beach-28/
END:VEVENT
BEGIN:VEVENT
DTSTART;TZID=America/Los_Angeles:20261220T143000
DTEND;TZID=America/Los_Angeles:20261220T170000
DTSTAMP:20260423T151811
CREATED:20260213T192836Z
LAST-MODIFIED:20260213T192836Z
UID:7627-1797777000-1797786000@nocymusic.com
SUMMARY:Peninsula Pointe Palos Verdes
DESCRIPTION:
URL:https://nocymusic.com/event/peninsula-pointe-palos-verdes-23/
END:VEVENT
BEGIN:VEVENT
DTSTART;TZID=America/Los_Angeles:20261227T140000
DTEND;TZID=America/Los_Angeles:20261227T150000
DTSTAMP:20260423T151811
CREATED:20251126T190440Z
LAST-MODIFIED:20251126T190440Z
UID:7326-1798380000-1798383600@nocymusic.com
SUMMARY:Studio Royale Culver City
DESCRIPTION:
URL:https://nocymusic.com/event/studio-royale-culver-city-23/
END:VEVENT
END:VCALENDAR