BEGIN:VCALENDAR
VERSION:2.0
PRODID:-//Nocymusic - ECPv6.15.20//NONSGML v1.0//EN
CALSCALE:GREGORIAN
METHOD:PUBLISH
X-WR-CALNAME:Nocymusic
X-ORIGINAL-URL:https://nocymusic.com
X-WR-CALDESC:Events for Nocymusic
REFRESH-INTERVAL;VALUE=DURATION:PT1H
X-Robots-Tag:noindex
X-PUBLISHED-TTL:PT1H
BEGIN:VTIMEZONE
TZID:America/Los_Angeles
BEGIN:DAYLIGHT
TZOFFSETFROM:-0800
TZOFFSETTO:-0700
TZNAME:PDT
DTSTART:20240310T100000
END:DAYLIGHT
BEGIN:STANDARD
TZOFFSETFROM:-0700
TZOFFSETTO:-0800
TZNAME:PST
DTSTART:20241103T090000
END:STANDARD
BEGIN:DAYLIGHT
TZOFFSETFROM:-0800
TZOFFSETTO:-0700
TZNAME:PDT
DTSTART:20250309T100000
END:DAYLIGHT
BEGIN:STANDARD
TZOFFSETFROM:-0700
TZOFFSETTO:-0800
TZNAME:PST
DTSTART:20251102T090000
END:STANDARD
BEGIN:DAYLIGHT
TZOFFSETFROM:-0800
TZOFFSETTO:-0700
TZNAME:PDT
DTSTART:20260308T100000
END:DAYLIGHT
BEGIN:STANDARD
TZOFFSETFROM:-0700
TZOFFSETTO:-0800
TZNAME:PST
DTSTART:20261101T090000
END:STANDARD
END:VTIMEZONE
BEGIN:VEVENT
DTSTART;TZID=America/Los_Angeles:20251005T140000
DTEND;TZID=America/Los_Angeles:20251005T150000
DTSTAMP:20260423T200552
CREATED:20250924T205658Z
LAST-MODIFIED:20250924T205658Z
UID:7142-1759672800-1759676400@nocymusic.com
SUMMARY:Belmont Village Rancho Palos Verdes
DESCRIPTION:
URL:https://nocymusic.com/event/belmont-village-rancho-palos-verdes/
END:VEVENT
BEGIN:VEVENT
DTSTART;TZID=America/Los_Angeles:20251004T130000
DTEND;TZID=America/Los_Angeles:20251004T140000
DTSTAMP:20260423T200552
CREATED:20250123T003529Z
LAST-MODIFIED:20250429T172649Z
UID:6466-1759582800-1759586400@nocymusic.com
SUMMARY:Welbrook Santa Monica
DESCRIPTION:
URL:https://nocymusic.com/event/welbrook-10/
END:VEVENT
BEGIN:VEVENT
DTSTART;TZID=America/Los_Angeles:20251002T153000
DTEND;TZID=America/Los_Angeles:20251002T163000
DTSTAMP:20260423T200552
CREATED:20250924T175355Z
LAST-MODIFIED:20250924T180026Z
UID:7136-1759419000-1759422600@nocymusic.com
SUMMARY:Watermark Westwood Village
DESCRIPTION:
URL:https://nocymusic.com/event/watermark/
END:VEVENT
BEGIN:VEVENT
DTSTART;TZID=America/Los_Angeles:20250928T140000
DTEND;TZID=America/Los_Angeles:20250928T150000
DTSTAMP:20260423T200552
CREATED:20250901T022035Z
LAST-MODIFIED:20250901T022035Z
UID:7064-1759068000-1759071600@nocymusic.com
SUMMARY:Studio Royale Culver City
DESCRIPTION:
URL:https://nocymusic.com/event/studio-royale-culver-city-6/
END:VEVENT
BEGIN:VEVENT
DTSTART;TZID=America/Los_Angeles:20250928T120000
DTEND;TZID=America/Los_Angeles:20250928T130000
DTSTAMP:20260423T200552
CREATED:20250928T014418Z
LAST-MODIFIED:20250928T014452Z
UID:7146-1759060800-1759064400@nocymusic.com
SUMMARY:Peninsula Pointe Palos Verdes
DESCRIPTION:
URL:https://nocymusic.com/event/peninsula-pointe-10/
END:VEVENT
BEGIN:VEVENT
DTSTART;TZID=America/Los_Angeles:20250927T130000
DTEND;TZID=America/Los_Angeles:20250927T160000
DTSTAMP:20260423T200552
CREATED:20250809T061439Z
LAST-MODIFIED:20250809T061514Z
UID:7016-1758978000-1758988800@nocymusic.com
SUMMARY:Welbrook Santa Monica
DESCRIPTION:
URL:https://nocymusic.com/event/welbrook-13/
END:VEVENT
BEGIN:VEVENT
DTSTART;TZID=America/Los_Angeles:20250926T140000
DTEND;TZID=America/Los_Angeles:20250926T150000
DTSTAMP:20260423T200552
CREATED:20250831T182007Z
LAST-MODIFIED:20250831T182007Z
UID:7053-1758895200-1758898800@nocymusic.com
SUMMARY:Beverly Rehab Center
DESCRIPTION:
URL:https://nocymusic.com/event/beverly-rehab-center/
END:VEVENT
BEGIN:VEVENT
DTSTART;TZID=America/Los_Angeles:20250925T140000
DTEND;TZID=America/Los_Angeles:20250925T160000
DTSTAMP:20260423T200552
CREATED:20250123T003529Z
LAST-MODIFIED:20250623T055541Z
UID:6465-1758808800-1758816000@nocymusic.com
SUMMARY:The Kensington Redondo Beach
DESCRIPTION:
URL:https://nocymusic.com/event/the-kensington-redondo-beach-18/
END:VEVENT
BEGIN:VEVENT
DTSTART;TZID=America/Los_Angeles:20250923T153000
DTEND;TZID=America/Los_Angeles:20250923T163000
DTSTAMP:20260423T200552
CREATED:20250831T182416Z
LAST-MODIFIED:20250831T182632Z
UID:7055-1758641400-1758645000@nocymusic.com
SUMMARY:The Watermark Westwood Village
DESCRIPTION:
URL:https://nocymusic.com/event/the-watermark/
END:VEVENT
BEGIN:VEVENT
DTSTART;TZID=America/Los_Angeles:20250918T120000
DTEND;TZID=America/Los_Angeles:20250918T133000
DTSTAMP:20260423T200552
CREATED:20250618T074018Z
LAST-MODIFIED:20250918T155042Z
UID:6906-1758196800-1758202200@nocymusic.com
SUMMARY:Cogir Torrance
DESCRIPTION:
URL:https://nocymusic.com/event/cogir-torrance-6/
END:VEVENT
BEGIN:VEVENT
DTSTART;TZID=America/Los_Angeles:20250913T153000
DTEND;TZID=America/Los_Angeles:20250913T163000
DTSTAMP:20260423T200552
CREATED:20250913T152955Z
LAST-MODIFIED:20250913T152955Z
UID:7089-1757777400-1757781000@nocymusic.com
SUMMARY:Watermark Westwood Village
DESCRIPTION:
URL:https://nocymusic.com/event/watermark-westwood-village-2/
END:VEVENT
BEGIN:VEVENT
DTSTART;TZID=America/Los_Angeles:20250911T140000
DTEND;TZID=America/Los_Angeles:20250911T160000
DTSTAMP:20260423T200552
CREATED:20250123T003529Z
LAST-MODIFIED:20250623T055512Z
UID:6464-1757599200-1757606400@nocymusic.com
SUMMARY:The Kensington Redondo Beach
DESCRIPTION:
URL:https://nocymusic.com/event/the-kensington-redondo-beach-17/
END:VEVENT
BEGIN:VEVENT
DTSTART;TZID=America/Los_Angeles:20250910T150000
DTEND;TZID=America/Los_Angeles:20250910T160000
DTSTAMP:20260423T200552
CREATED:20250618T022040Z
LAST-MODIFIED:20250618T073531Z
UID:6870-1757516400-1757520000@nocymusic.com
SUMMARY:Peninsula Pointe Rancho Palos Verdes
DESCRIPTION:
URL:https://nocymusic.com/event/september-10-peninsula-pointe-rancho-palos-verdes/
END:VEVENT
BEGIN:VEVENT
DTSTART;TZID=America/Los_Angeles:20250905T150000
DTEND;TZID=America/Los_Angeles:20250905T160000
DTSTAMP:20260423T200552
CREATED:20250814T170503Z
LAST-MODIFIED:20250831T182657Z
UID:7023-1757084400-1757088000@nocymusic.com
SUMMARY:The Canterbury Palos Verdes
DESCRIPTION:
URL:https://nocymusic.com/event/the-canterbury/
END:VEVENT
BEGIN:VEVENT
DTSTART;TZID=America/Los_Angeles:20250905T123000
DTEND;TZID=America/Los_Angeles:20250905T133000
DTSTAMP:20260423T200552
CREATED:20250614T075536Z
LAST-MODIFIED:20250903T230906Z
UID:6863-1757075400-1757079000@nocymusic.com
SUMMARY:Jewish Family Center LA
DESCRIPTION:
URL:https://nocymusic.com/event/september-5-jewish-family-center-la/
END:VEVENT
BEGIN:VEVENT
DTSTART;TZID=America/Los_Angeles:20250901T143000
DTEND;TZID=America/Los_Angeles:20250901T153000
DTSTAMP:20260423T200552
CREATED:20250823T070946Z
LAST-MODIFIED:20250831T182737Z
UID:7025-1756737000-1756740600@nocymusic.com
SUMMARY:Peninsula Pointe Palos Verdes
DESCRIPTION:
URL:https://nocymusic.com/event/peninsula-pointe-9/
END:VEVENT
BEGIN:VEVENT
DTSTART;TZID=America/Los_Angeles:20250901T113000
DTEND;TZID=America/Los_Angeles:20250901T133000
DTSTAMP:20260423T200552
CREATED:20250829T043526Z
LAST-MODIFIED:20250829T043526Z
UID:7040-1756726200-1756733400@nocymusic.com
SUMMARY:The Watermark Westwood Village
DESCRIPTION:
URL:https://nocymusic.com/event/the-watermark-westwood-village-3/
END:VEVENT
BEGIN:VEVENT
DTSTART;TZID=America/Los_Angeles:20250831T140000
DTEND;TZID=America/Los_Angeles:20250831T150000
DTSTAMP:20260423T200552
CREATED:20250714T032025Z
LAST-MODIFIED:20250714T032025Z
UID:6979-1756648800-1756652400@nocymusic.com
SUMMARY:Studio Royale Culver City
DESCRIPTION:
URL:https://nocymusic.com/event/studio-royale-culver-city-3/
END:VEVENT
BEGIN:VEVENT
DTSTART;TZID=America/Los_Angeles:20250829T140000
DTEND;TZID=America/Los_Angeles:20250829T150000
DTSTAMP:20260423T200552
CREATED:20250217T180345Z
LAST-MODIFIED:20250429T172421Z
UID:6588-1756476000-1756479600@nocymusic.com
SUMMARY:The Pinnacles  Beverly Hills
DESCRIPTION:
URL:https://nocymusic.com/event/august-29-the-pinnacles-at-burton/
END:VEVENT
BEGIN:VEVENT
DTSTART;TZID=America/Los_Angeles:20250828T140000
DTEND;TZID=America/Los_Angeles:20250828T170000
DTSTAMP:20260423T200552
CREATED:20250123T003515Z
LAST-MODIFIED:20250325T034759Z
UID:6462-1756389600-1756400400@nocymusic.com
SUMMARY:The Kensington Redondo Beach
DESCRIPTION:
URL:https://nocymusic.com/event/the-kensington-redondo-beach-16/
END:VEVENT
BEGIN:VEVENT
DTSTART;TZID=America/Los_Angeles:20250827T160000
DTEND;TZID=America/Los_Angeles:20250827T170000
DTSTAMP:20260423T200552
CREATED:20250618T073925Z
LAST-MODIFIED:20250618T073925Z
UID:6904-1756310400-1756314000@nocymusic.com
SUMMARY:Cogir Torrance
DESCRIPTION:
URL:https://nocymusic.com/event/cogir-torrance-5/
END:VEVENT
BEGIN:VEVENT
DTSTART;TZID=America/Los_Angeles:20250826T153000
DTEND;TZID=America/Los_Angeles:20250826T163000
DTSTAMP:20260423T200552
CREATED:20250726T032436Z
LAST-MODIFIED:20250823T071131Z
UID:6985-1756222200-1756225800@nocymusic.com
SUMMARY:Watermark Westwood Village
DESCRIPTION:
URL:https://nocymusic.com/event/watermark-westwood-village/
END:VEVENT
BEGIN:VEVENT
DTSTART;TZID=America/Los_Angeles:20250816T190000
DTEND;TZID=America/Los_Angeles:20250816T210000
DTSTAMP:20260423T200552
CREATED:20250423T181607Z
LAST-MODIFIED:20250423T181607Z
UID:6739-1755370800-1755378000@nocymusic.com
SUMMARY:Park City Utah
DESCRIPTION:
URL:https://nocymusic.com/event/park-city-utah/
END:VEVENT
BEGIN:VEVENT
DTSTART;TZID=America/Los_Angeles:20250814T140000
DTEND;TZID=America/Los_Angeles:20250814T170000
DTSTAMP:20260423T200552
CREATED:20250123T003514Z
LAST-MODIFIED:20250623T055422Z
UID:6461-1755180000-1755190800@nocymusic.com
SUMMARY:The Kensington Redondo Beach
DESCRIPTION:
URL:https://nocymusic.com/event/the-kensington-redondo-beach-15/
END:VEVENT
BEGIN:VEVENT
DTSTART;TZID=America/Los_Angeles:20250809T133000
DTEND;TZID=America/Los_Angeles:20250809T143000
DTSTAMP:20260423T200552
CREATED:20250618T072723Z
LAST-MODIFIED:20250618T073507Z
UID:6876-1754746200-1754749800@nocymusic.com
SUMMARY:Brookdale Santa Monica
DESCRIPTION:
URL:https://nocymusic.com/event/august-9-brookdale-santa-monica/
END:VEVENT
BEGIN:VEVENT
DTSTART;TZID=America/Los_Angeles:20250803T143000
DTEND;TZID=America/Los_Angeles:20250803T153000
DTSTAMP:20260423T200552
CREATED:20250618T021735Z
LAST-MODIFIED:20250618T073449Z
UID:6866-1754231400-1754235000@nocymusic.com
SUMMARY:Peninsula Pointe Rancho Palos Verdes
DESCRIPTION:
URL:https://nocymusic.com/event/august-3-peninsula-pointe-rancho-palos-verdes/
END:VEVENT
BEGIN:VEVENT
DTSTART;TZID=America/Los_Angeles:20250802T130000
DTEND;TZID=America/Los_Angeles:20250802T140000
DTSTAMP:20260423T200552
CREATED:20250123T003514Z
LAST-MODIFIED:20250429T172555Z
UID:6460-1754139600-1754143200@nocymusic.com
SUMMARY:Welbrook Santa Monica
DESCRIPTION:
URL:https://nocymusic.com/event/welbrook-8/
END:VEVENT
BEGIN:VEVENT
DTSTART;TZID=America/Los_Angeles:20250731T140000
DTEND;TZID=America/Los_Angeles:20250731T170000
DTSTAMP:20260423T200552
CREATED:20250123T003514Z
LAST-MODIFIED:20250623T055336Z
UID:6459-1753970400-1753981200@nocymusic.com
SUMMARY:The Kensington Redondo Beach
DESCRIPTION:
URL:https://nocymusic.com/event/the-kensington-redondo-beach-14/
END:VEVENT
BEGIN:VEVENT
DTSTART;TZID=America/Los_Angeles:20250730T160000
DTEND;TZID=America/Los_Angeles:20250730T173000
DTSTAMP:20260423T200552
CREATED:20250618T073642Z
LAST-MODIFIED:20250618T074240Z
UID:6900-1753891200-1753896600@nocymusic.com
SUMMARY:Cogir Torrance
DESCRIPTION:
URL:https://nocymusic.com/event/cogir-torrance-4/
END:VEVENT
BEGIN:VEVENT
DTSTART;TZID=America/Los_Angeles:20250727T020000
DTEND;TZID=America/Los_Angeles:20250727T150000
DTSTAMP:20260423T200552
CREATED:20250619T033127Z
LAST-MODIFIED:20250619T033127Z
UID:6918-1753581600-1753628400@nocymusic.com
SUMMARY:Studio Royale Culver City
DESCRIPTION:
URL:https://nocymusic.com/event/studio-royale-culver-city-2/
END:VEVENT
END:VCALENDAR